Workbook
Name Credito: tarifa!$F$13:$G$23
Name Credito1: tarifa!$F$38:$G$48
Name SMG: tarifa!$I$3
Name Subsidio: tarifa!$F$13:$G$23
Name Tarifa: tarifa!$B$13:$D$23
Name Tarifa1: tarifa!$B$41:$D$51
Name UMA: tarifa!$I$8

Sheet tarifa
B2: NOMBRE DE LA EMPRESA | I2: SALARIO MINIMO GENERAL
B3: TABLAS DE TARIFA Y CREDITO AL SALARIO PARA CALCULO DE I.S.P.T. | I3: 315.04
B4: EJERCICIO 2026
B7: T A R I F A | F7: SUBSIDO AL EMPLEO | I7: UMA
B8: I.S.R. | F8: MENSUAL | I8: 117.31
B10: Limite | C10: Cuota | D10: % | F10: De.......A | G10: Subsidio al
B11: Inferior | C11: Fija | D11: S/Excedente | G11: Empleo
B13: 0.01 | C13: 0 | D13: 0.0192 | F13: 0.01 | G13: 535.65
B14: 844.6 | C14: 16.22 | D14: 0.064 | F14: 11492.67 | G14: 0
B15: 7168.52 | C15: 420.95 | D15: 0.1088 | F15: 11492.67 | G15: 0
B16: 12598.03 | C16: 1011.68 | D16: 0.16 | F16: 11492.67 | G16: 0
B17: 14644.65 | C17: 1339.14 | D17: 0.1792 | F17: 11492.67 | G17: 0
B18: 17533.65 | C18: 1856.84 | D18: 0.2136 | F18: 11492.67 | G18: 0
B19: 35362.84 | C19: 5665.16 | D19: 0.2352 | F19: 11492.67 | G19: 0
B20: 55736.69 | C20: 10457.09 | D20: 0.3 | F20: 11492.67 | G20: 0
B21: 106410.51 | C21: 25659.23 | D21: 0.32 | F21: 11492.67 | G21: 0
B22: 141880.67 | C22: 37009.69 | D22: 0.34 | F22: 11492.67 | G22: 0
B23: 425642 | C23: 133488.54 | D23: 0.35 | F23: 11492.67 | G23: 0
B27: NOTA:
B28: TABLAS PUBLICADAS En DICIEMBRE DE 2025
B29: VIGENTES PARA 2026
B30: SE APLICARON CAMBIOS EN SUBSIDIO AL EMPLEO POR DECRETO PRESIDENCIAL DEL 01 MAY 2024
B32: CONVERSION DE TABLAS A QUINCENALES | F32: SUBSIDIO AL
F33: EMPLEO
B35: T A R I F A | F35: De.......A | G35: Credito al
B36: I.S.R. | G36: Salario
B38: Limite | C38: Cuota | D38: % | F38: 0.01 | G38: 267.82
B39: Inferior | C39: Fija | D39: S/Excedente | F39: 5746.34 | G39: 0
F40: 5746.34 | G40: 0
B41: 0.01 | C41: 0 | D41: 0.0192 | F41: 5746.34 | G41: 0
B42: 416.71 | C42: 7.95 | D42: 0.064 | F42: 5746.34 | G42: 0
B43: 3537.16 | C43: 207.75 | D43: 0.1088 | F43: 5746.34 | G43: 0
B44: 6216.16 | C44: 499.2 | D44: 0.16 | F44: 5746.34 | G44: 0
B45: 7225.96 | C45: 660.75 | D45: 0.1792 | F45: 5746.34 | G45: 0
B46: 8651.41 | C46: 916.2 | D46: 0.2136 | F46: 5746.34 | G46: 0
B47: 17448.76 | C47: 2795.25 | D47: 0.2352 | F47: 5746.34 | G47: 0
B48: 27501.61 | C48: 5159.7 | D48: 0.3 | F48: 5746.34 | G48: 0
B49: 52505.26 | C49: 12660.75 | D49: 0.32
B50: 70006.96 | C50: 18261.3 | D50: 0.34
B51: 210020.71 | C51: 65866.05 | D51: 0.35

Sheet PRESIDENCIA
A1: MUNICIPIO DE : SAN CRISTÒBAL DE LA BARRANCA, JALISCO
A2: RFC MSC 850101 FR1
A3: SUELDO DEL 15 AL 30 DE SEPTIEMBRE DE 2026
I5: Dias | J5: Sueldo | K5: P E R C E P C I O N E S | N5: Horas | P5: TARIFA | V5: Subsidio | W5: I.S.R. | X5: Subsidio | Y5: D E D U C C I O N E S | AB5: TOTAL
A6: Num. | B6: Núm de Empleado | C6: Forma de Pago | D6: Nombre | E6: RFC | F6: CURP | G6: FECHA DE INGRESO | H6: PUESTO | I6: Trab. | J6: diario | K6: Sueldo | L6: TIEMPO | M6: total | N6: Extras | O6: Base | P6: Limite | Q6: Excedente | R6: %/S exced. | S6: Impuesto | T6: Cuota | U6: I.S.R. | V6: Al | W6: a Cargo | X6: Al | Y6: ISR Salarios | Z6: Prestamo | AA6: Total | AB6: A | AC6: F I R M A
K7: Quincenal | L7: EXTRA | M7: Percepcion | N7: Gravadas | O7: Gravable | P7: Inferior | Q7: Limite Inf. | R7: Limite Inf. | S7: Marginal | T7: Fija | U7: Bruto | V7: Empleo | W7: o (A Favor) | X7: Empleo | AA7: Deduc. | AB7: PAGAR
B8: Núm de Empleado | C8: Forma de Pago | D8: PRESIDENCIA | E8: RFC | F8: CURP | G8: FECHA DE INGRESO | H8: PUESTO | K8: =SUM(K9:K11) -> 52807.5 | L8: =SUM(L9:L11) -> 0 | M8: =SUM(M9:M11) -> 52807.5 | X8: =SUM(X9:X11) -> 0 | Y8: =SUM(Y9:Y11) -> 9050.42 | Z8: =SUM(Z9:Z11) -> 0 | AA8: =SUM(AA9:AA11) -> 9050.42 | AB8: =SUM(AB9:AB11) -> 43757.08
A9: 1 | B9: 378 | C9: 03 | D9: KARINA GUZMAN CARDONA | E9: GUCK940424FP5 | F9: GUCK940424MJCZRR08 | G9: 45566 | H9: PRESIDENTE MUNICIPAL | I9: 15 | J9: =K9/I9 -> 2018.2667 | K9: 30274 | L9: 0 | M9: =SUM(K9:L9) -> 30274 | N9: =IF(K9/15<=SMG,0,L9/2) -> 0 | O9: =(K9+N9)/I9*30.4 -> 61355.307 | P9: =VLOOKUP(O9,Tarifa,1) -> 55736.69 | Q9: =O9-P9 -> 5618.6167 | R9: =VLOOKUP(O9,Tarifa,3) -> 0.3 | S9: =Q9*R9 -> 1685.585 | T9: =VLOOKUP(O9,Tarifa,2) -> 10457.09 | U9: =S9+T9 -> 12142.675 | V9: =VLOOKUP(O9,Credito,2) -> 0 | W9: =ROUND((U9-V9)/30.4*I9,2) -> 5991.45 | X9: =-IF(W9>0,0,0) -> 0 | Y9: =IF(K9/15<=SMG,0,IF(W9<0,0,W9)) -> 5991.45 | Z9: 0 | AA9: =SUM(Y9:Z9) -> 5991.45 | AB9: =M9+X9-AA9 -> 24282.55
A10: 2 | B10: 170 | C10: 03 | D10: CARLOS ADRIAN AVILA LLAMAS | E10: AILC9808299Q6 | F10: AILC980829HJCVLR00 | G10: 45566 | H10: SECRETARIO GENERAL | I10: 15 | J10: =K10/I10 -> 1091.7333 | K10: 16376 | L10: 0 | M10: =SUM(K10:L10) -> 16376 | N10: =IF(K10/15<=SMG,0,L10/2) -> 0 | O10: =(K10+N10)/I10*30.4 -> 33188.693 | P10: =VLOOKUP(O10,Tarifa,1) -> 17533.65 | Q10: =O10-P10 -> 15655.043 | R10: =VLOOKUP(O10,Tarifa,3) -> 0.2136 | S10: =Q10*R10 -> 3343.9173 | T10: =VLOOKUP(O10,Tarifa,2) -> 1856.84 | U10: =S10+T10 -> 5200.7573 | V10: =VLOOKUP(O10,Credito,2) -> 0 | W10: =ROUND((U10-V10)/30.4*I10,2) -> 2566.16 | X10: =-IF(W10>0,0,0) -> 0 | Y10: =IF(K10/15<=SMG,0,IF(W10<0,0,W10)) -> 2566.16 | Z10: 0 | AA10: =SUM(Y10:Z10) -> 2566.16 | AB10: =M10+X10-AA10 -> 13809.84
B11: 007 | C11: 03 | D11: MARIA GUADALUPE PEREZ LLAMAS | E11: PELG8902233V7 | F11: PELG890223MJCRLD06 | G11: 40026 | H11: SECRETARIA | I11: 15 | J11: =K11/I11 -> 410.5 | K11: 6157.5 | L11: 0 | M11: =SUM(K11:L11) -> 6157.5 | N11: =IF(K11/15<=SMG,0,L11/2) -> 0 | O11: =(K11+N11)/I11*30.4 -> 12479.2 | P11: =VLOOKUP(O11,Tarifa,1) -> 7168.52 | Q11: =O11-P11 -> 5310.68 | R11: =VLOOKUP(O11,Tarifa,3) -> 0.1088 | S11: =Q11*R11 -> 577.80198 | T11: =VLOOKUP(O11,Tarifa,2) -> 420.95 | U11: =S11+T11 -> 998.75198 | V11: =VLOOKUP(O11,Credito,2) -> 0 | W11: =ROUND((U11-V11)/30.4*I11,2) -> 492.81 | X11: =-IF(W11>0,0,0) -> 0 | Y11: =IF(K11/15<=SMG,0,IF(W11<0,0,W11)) -> 492.81 | Z11: 0 | AA11: =SUM(Y11:Z11) -> 492.81 | AB11: =M11+X11-AA11 -> 5664.69
B12: Núm de Empleado | C12: Forma de Pago | D12: REGISTRO CIVIL | E12: RFC | F12: CURP | G12: FECHA DE INGRESO | H12: PUESTO | K12: =K13 -> 6123 | L12: =L13 -> 0 | M12: =M13 -> 6123 | X12: =X13 -> 0 | Y12: =Y13 -> 489.05 | Z12: =Z13 -> 0 | AA12: =AA13 -> 489.05 | AB12: =AB13 -> 5633.95
A13: 5 | B13: 270 | D13: ROSA ESMERALDA SANDOVAL MACHUCA | E13: SAMR9804042T6 | F13: SAMR980404MJCNCS05 | G13: 44470 | H13: AUXILIAR DEL REGISTRO CIVIL | I13: 15 | J13: =K13/I13 -> 408.2 | K13: 6123 | L13: 0 | M13: =SUM(K13:L13) -> 6123 | N13: =IF(K13/15<=SMG,0,L13/2) -> 0 | O13: =(K13+N13)/I13*30.4 -> 12409.28 | P13: =VLOOKUP(O13,Tarifa,1) -> 7168.52 | Q13: =O13-P13 -> 5240.76 | R13: =VLOOKUP(O13,Tarifa,3) -> 0.1088 | S13: =Q13*R13 -> 570.19469 | T13: =VLOOKUP(O13,Tarifa,2) -> 420.95 | U13: =S13+T13 -> 991.14469 | V13: =VLOOKUP(O13,Credito,2) -> 0 | W13: =ROUND((U13-V13)/30.4*I13,2) -> 489.05 | X13: =-IF(W13>0,0,0) -> 0 | Y13: =IF(K13/15<=SMG,0,IF(W13<0,0,W13)) -> 489.05 | Z13: 0 | AA13: =SUM(Y13:Z13) -> 489.05 | AB13: =M13+X13-AA13 -> 5633.95
B18: Núm de Empleado | C18: Forma de Pago | D18: CATASTRO MUNICIPAL | E18: RFC | F18: CURP | G18: FECHA DE INGRESO | H18: PUESTO | K18: =SUM(K19:K19) -> 11640.5 | L18: =SUM(L19:L19) -> 0 | M18: =SUM(M19:M19) -> 11640.5 | X18: =SUM(X19:X19) -> 0 | Y18: =SUM(Y19:Y19) -> 1554.66 | Z18: =SUM(Z19:Z19) -> 0 | AA18: =SUM(AA19:AA19) -> 1554.66 | AB18: =SUM(AB19:AB20) -> 15467.58
A19: 6 | B19: 158 | C19: 03 | D19: FRED DE JESUS VILLALOBOS CASTILLO | E19: VICF940917FW7 | F19: VICF940917HJCLSR05 | G19: 43374 | H19: DIRECTOR DE CATASTRO Y REGULARIZACIÓN DE PREDIOS RÚSTICOS | I19: 15 | J19: =K19/I19 -> 776.03333 | K19: 11640.5 | L19: 0 | M19: =K19 -> 11640.5 | N19: =IF(K19/15<=SMG,0,L19/2) -> 0 | O19: =(K19+N19)/I19*30.4 -> 23591.413 | P19: =VLOOKUP(O19,Tarifa,1) -> 17533.65 | Q19: =O19-P19 -> 6057.7633 | R19: =VLOOKUP(O19,Tarifa,3) -> 0.2136 | S19: =Q19*R19 -> 1293.9382 | T19: =VLOOKUP(O19,Tarifa,2) -> 1856.84 | U19: =S19+T19 -> 3150.7782 | V19: =VLOOKUP(O19,Credito,2) -> 0 | W19: =ROUND((U19-V19)/30.4*I19,2) -> 1554.66 | X19: =-IF(W19>0,0,0) -> 0 | Y19: =IF(K19/15<=SMG,0,IF(W19<0,0,W19)) -> 1554.66 | Z19: 0 | AA19: =SUM(Y19:Z19) -> 1554.66 | AB19: =M19+X19-AA19 -> 10085.84
B20: 384 | C20: 03 | D20: ARACELI AVELAR VALDEZ | E20: AEVA930930QJ2 | F20: AEVA930930MJCVLR07 | G20: 45612 | H20: AUXILIAR ADMINISTRATIVO | I20: 15 | J20: =K20/I20 -> 389.33333 | K20: 5840 | L20: 0 | M20: =SUM(K20:L20) -> 5840 | N20: =IF(K20/15<=SMG,0,L20/2) -> 0 | O20: =(K20+N20)/I20*30.4 -> 11835.733 | P20: =VLOOKUP(O20,Tarifa,1) -> 7168.52 | Q20: =O20-P20 -> 4667.2133 | R20: =VLOOKUP(O20,Tarifa,3) -> 0.1088 | S20: =Q20*R20 -> 507.79281 | T20: =VLOOKUP(O20,Tarifa,2) -> 420.95 | U20: =S20+T20 -> 928.74281 | V20: =VLOOKUP(O20,Credito,2) -> 0 | W20: =ROUND((U20-V20)/30.4*I20,2) -> 458.26 | X20: =-IF(W20>0,0,0) -> 0 | Y20: =IF(K20/15<=SMG,0,IF(W20<0,0,W20)) -> 458.26 | Z20: 0 | AA20: =SUM(Y20:Z20) -> 458.26 | AB20: =M20+X20-AA20 -> 5381.74
B21: Núm de Empleado | C21: Forma de Pago | D21: TRANSPARENCIA | E21: RFC | F21: CURP | G21: FECHA DE INGRESO | H21: PUESTO | K21: =SUM(K22:K22) -> 6894 | L21: =SUM(L22:L22) -> 0 | M21: =SUM(M22:M22) -> 6894 | X21: =SUM(X22:X22) -> 0 | Y21: =SUM(Y22:Y22) -> 607.64 | Z21: =SUM(Z22:Z22) -> 0 | AA21: =SUM(AA22:AA22) -> 607.64 | AB21: =SUM(AB22:AB22) -> 6286.36
B22: 434 | C22: 03 | D22: ALEJANDRO MAGALLANES ÁVILA | E22: MAAA951108638 | F22: MAAA951108HJCGVL06 | G22: 46023 | H22: TITULAR DE TRANPARENCIA Y ARCHIVO | I22: 15 | J22: =K22/I22 -> 459.6 | K22: 6894 | L22: 0 | M22: =K22 -> 6894 | N22: =IF(K22/15<=SMG,0,L22/2) -> 0 | O22: =(K22+N22)/I22*30.4 -> 13971.84 | P22: =VLOOKUP(O22,Tarifa,1) -> 12598.03 | Q22: =O22-P22 -> 1373.81 | R22: =VLOOKUP(O22,Tarifa,3) -> 0.16 | S22: =Q22*R22 -> 219.8096 | T22: =VLOOKUP(O22,Tarifa,2) -> 1011.68 | U22: =S22+T22 -> 1231.4896 | V22: =VLOOKUP(O22,Credito,2) -> 0 | W22: =ROUND((U22-V22)/30.4*I22,2) -> 607.64 | X22: =-IF(W22>0,0,0) -> 0 | Y22: =IF(K22/15<=SMG,0,IF(W22<0,0,W22)) -> 607.64 | Z22: 0 | AA22: =SUM(Y22:Z22) -> 607.64 | AB22: =M22+X22-AA22 -> 6286.36
B23: Núm de Empleado | C23: Forma de Pago | D23: COMPUTO E INFÓRMATICA | E23: RFC | F23: CURP | G23: FECHA DE INGRESO | H23: PUESTO | K23: =SUM(K24:K24) -> 3227 | L23: =SUM(L24:L24) -> 0 | M23: =SUM(M24:M24) -> 3227 | X23: =SUM(X24:X24) -> 0 | Y23: =SUM(Y24:Y24) -> 0 | Z23: =SUM(Z24:Z24) -> 0 | AA23: =SUM(AA24:AA24) -> 0 | AB23: =SUM(AB24:AB24) -> 3227
B24: 013 | C24: 03 | D24: YADIRA SARAY OROZCO VILLALOBOS | E24: OOVY861212GH1 | F24: OOVY861212MJCRLD02 | G24: 45566 | H24: AUXILIAR DE COMPUTACION | I24: 15 | J24: =K24/I24 -> 215.13333 | K24: 3227 | L24: 0 | M24: =SUM(K24:L24) -> 3227 | N24: =IF(K24/15<=SMG,0,L24/2) -> 0 | O24: =(K24+N24)/I24*30.4 -> 6540.0533 | P24: =VLOOKUP(O24,Tarifa,1) -> 844.6 | Q24: =O24-P24 -> 5695.4533 | R24: =VLOOKUP(O24,Tarifa,3) -> 0.064 | S24: =Q24*R24 -> 364.50901 | T24: =VLOOKUP(O24,Tarifa,2) -> 16.22 | U24: =S24+T24 -> 380.72901 | V24: =VLOOKUP(O24,Credito,2) -> 535.65 | W24: =ROUND((U24-V24)/30.4*I24,2) -> -76.44 | X24: 0 | Y24: =IF(K24/15<=SMG,0,IF(W24<0,0,W24)) -> 0 | Z24: 0 | AA24: =SUM(Y24:Z24) -> 0 | AB24: =M24+X24-AA24 -> 3227
A26: T O T A L E S | K26: =K8+K12+K18+K23+K21 -> 80692 | L26: =L8+L12+L18+L23+L21 -> 0 | M26: =M8+M12+M18+M23+M21 -> 80692 | N26: =SUM(N9:N24) -> 0 | O26: =SUM(O9:O24) -> 175371.52 | P26: =SUM(P9:P24) -> 125752.18 | Q26: =SUM(Q9:Q24) -> 49619.34 | R26: =SUM(R9:R24) -> 1.2776 | S26: =SUM(S9:S24) -> 8563.5486 | T26: =SUM(T9:T24) -> 16461.52 | U26: =SUM(U9:U24) -> 25025.069 | ... W26: =SUM(W9:W24) -> 12083.59 | X26: =X8+X12+X18+X23+X21 -> 0 | Y26: =Y8+Y12+Y18+Y23+Y21 -> 11701.77 | Z26: =Z8+Z12+Z18+Z23+Z21 -> 0 | AA26: =AA8+AA12+AA18+AA23+AA21 -> 11701.77 | AB26: =AB8+AB12+AB18+AB23+AB21 -> 74371.97
D36: LIC. KARINA GUZMAN CARDONA | Y36: MTRO. JOSÉ ACUÑA RUIZ
D37: PRESIDENTA MUNICIPAL | Y37: TESORERO ENC. DE LA HACIENDA MPAL.

Sheet CONTRALORIA 
A1: MUNICIPIO DE : SAN CRISTÒBAL DE LA BARRANCA,JALISCO
A2: RFC MSC 850101 FR1
A3: SUELDO DEL 01 AL 15 DE OCTUBRE DE 2023 | B3: =PRESIDENCIA!A3 -> SUELDO DEL 15 AL 30 DE SEPTIEMBRE DE 2026
I5: Dias | J5: DIAS | K5: P E R C E P C I O N E S | N5: Horas | P5: TARIFA | V5: Credito | W5: I.S.R. | X5: Subsidio | Y5: D E D U C C I O N E S | AB5: TOTAL
A6: Num. | B6: Núm de Empleado | C6: FORMA DE PAGO | D6: Nombre | I6: Trab. | J6: diario | K6: Sueldo | L6: TIEMPO | M6: total | N6: Extras | O6: Base | P6: Limite | Q6: Excedente | R6: %/S exced. | S6: Impuesto | T6: Cuota | U6: I.S.R. | V6: Al | W6: a Cargo | X6: Al | Y6: ISR Salarios | Z6: Prestamo | AA6: Total | AB6: A | AC6: F I R M A
K7: Quincenal | L7: EXTRA | M7: Percepcion | N7: Gravadas | O7: Gravable | P7: Inferior | Q7: Limite Inf. | R7: Limite Inf. | S7: Marginal | T7: Fija | U7: Bruto | V7: Salario | W7: o (A Favor) | X7: Empleo | AA7: Deduc. | AB7: PAGAR
B8: Núm de Empleado | C8: Forma de Pago | D8: CONTRALORIA MUNICIPAL | E8: RFC | F8: CURP | G8: FECHA DE INGRESO | H8: PUESTO | K8: =K9 -> 12674.5 | L8: =L9 -> 0 | M8: =M9 -> 12674.5 | X8: =X9 -> 0 | Y8: =Y9 -> 1775.52 | Z8: =Z9 -> 0 | AA8: =AA9 -> 1775.52 | AB8: =AB9 -> 10898.98
B9: 261 | C9: 03 | D9: ERIDANI OROZCO VILLALOBOS | E9: OOVE840411MK4 | F9: OOVE840411MJCRLR07 | G9: 45601 | H9: ÓRGANO INTERNO DE CONTROL | I9: 15 | J9: =K9/I9 -> 844.96667 | K9: 12674.5 | L9: 0 | M9: =SUM(K9:L9) -> 12674.5 | N9: =IF(K9/15<=SMG,0,L9/2) -> 0 | O9: =(K9+N9)/I9*30.4 -> 25686.987 | P9: =VLOOKUP(O9,Tarifa,1) -> 17533.65 | Q9: =O9-P9 -> 8153.3367 | R9: =VLOOKUP(O9,Tarifa,3) -> 0.2136 | S9: =Q9*R9 -> 1741.5527 | T9: =VLOOKUP(O9,Tarifa,2) -> 1856.84 | U9: =S9+T9 -> 3598.3927 | V9: =VLOOKUP(O9,Credito,2) -> 0 | W9: =ROUND((U9-V9)/30.4*I9,2) -> 1775.52 | X9: =-IF(W9>0,0,0) -> 0 | Y9: =IF(K9/15<=SMG,0,IF(W9<0,0,W9)) -> 1775.52 | Z9: 0 | AA9: =SUM(Y9:Z9) -> 1775.52 | AB9: =M9+X9-AA9 -> 10898.98
B10: Núm de Empleado | C10: Forma de Pago | D10: JUZGADO MUNICIPAL | E10: RFC | H10: PUESTO | K10: =K11 -> 8548 | L10: =L11 -> 0 | M10: =M11 -> 8548 | X10: =X11 -> 0 | Y10: =Y11 -> 897.67 | Z10: =Z11 -> 0 | AA10: =AA11 -> 897.67 | AB10: =AB11 -> 7650.33
B11: 393 | C11: 03 | D11: HERIBERTO PEREZ CRUZ | E11: PCH941018MU7 | F11: PECH941018HJCRRR08 | G11: 45581 | H11: JUEZ MUNICIPAL | I11: 15 | J11: =ROUND(K11/I11,2) -> 569.87 | K11: 8548 | L11: 0 | M11: =SUM(K11:L11) -> 8548 | N11: =IF(K11/15<=SMG,0,L11/2) -> 0 | O11: =(K11+N11)/I11*30.4 -> 17323.947 | P11: =VLOOKUP(O11,Tarifa,1) -> 14644.65 | Q11: =O11-P11 -> 2679.2967 | R11: =VLOOKUP(O11,Tarifa,3) -> 0.1792 | S11: =Q11*R11 -> 480.12996 | T11: =VLOOKUP(O11,Tarifa,2) -> 1339.14 | U11: =S11+T11 -> 1819.27 | V11: =VLOOKUP(O11,Credito,2) -> 0 | W11: =ROUND((U11-V11)/30.4*I11,2) -> 897.67 | X11: =-IF(W11>0,0,0) -> 0 | Y11: =IF(K11/15<=SMG,0,IF(W11<0,0,W11)) -> 897.67 | Z11: 0 | AA11: =SUM(Y11:Z11) -> 897.67 | AB11: =M11+X11-AA11 -> 7650.33
B12: Núm de Empleado | C12: Forma de Pago | D12: JURIDICO | E12: RFC | F12: CURP | H12: PUESTO | K12: =SUM(K13) -> 13214 | L12: =SUM(L13) -> 0 | M12: =SUM(M13) -> 13214 | X12: =SUM(X13) -> 0 | Y12: =SUM(Y13) -> 1890.76 | Z12: =SUM(Z13) -> 0 | AA12: =SUM(AA13) -> 1890.76 | AB12: =SUM(AB13) -> 11323.24
B13: 160 | C13: 03 | D13: ALDO JOSUE RUIZ GONZALEZ | E13: RUGA920901MA1 | F13: RUGA920901HJCZNL07 | G13: 45566 | H13: JURIDICO | I13: 15 | J13: =ROUND(K13/I13,2) -> 880.93 | K13: 13214 | L13: 0 | M13: =SUM(K13:L13) -> 13214 | N13: =IF(K13/15<=SMG,0,L13/2) -> 0 | O13: =(K13+N13)/I13*30.4 -> 26780.373 | P13: =VLOOKUP(O13,Tarifa,1) -> 17533.65 | Q13: =O13-P13 -> 9246.7233 | R13: =VLOOKUP(O13,Tarifa,3) -> 0.2136 | S13: =Q13*R13 -> 1975.1001 | T13: =VLOOKUP(O13,Tarifa,2) -> 1856.84 | U13: =S13+T13 -> 3831.9401 | V13: =VLOOKUP(O13,Credito,2) -> 0 | W13: =ROUND((U13-V13)/30.4*I13,2) -> 1890.76 | X13: =-IF(W13>0,0,0) -> 0 | Y13: =IF(K13/15<=SMG,0,IF(W13<0,0,W13)) -> 1890.76 | Z13: 0 | AA13: =SUM(Y13:Z13) -> 1890.76 | AB13: =M13+X13-AA13 -> 11323.24
A14: T O T A L E S | K14: =K8+K10+K12 -> 34436.5 | L14: =L8+L10+L12 -> 0 | M14: =M8+M10+M12 -> 34436.5 | N14: =SUM(#REF!) -> #REF! | O14: =SUM(#REF!) -> #REF! | P14: =SUM(#REF!) -> #REF! | Q14: =SUM(#REF!) -> #REF! | R14: =SUM(#REF!) -> #REF! | S14: =SUM(#REF!) -> #REF! | T14: =SUM(#REF!) -> #REF! | U14: =SUM(#REF!) -> #REF! | ... W14: =SUM(#REF!) -> #REF! | X14: =X8+X10+X12 -> 0 | Y14: =Y8+Y10+Y12 -> 4563.95 | Z14: =Z8+Z10+Z12 -> 0 | AA14: =AA8+AA10+AA12 -> 4563.95 | AB14: =AB8+AB10+AB12 -> 29872.55
D30: LIC. KARINA GUZMAN CARDONA | Y30: MTRO. JOSÉ ACUÑA RUIZ
D31: PRESIDENTA MUNICIPAL | Y31: TESORERO ENC. DE LA HACIENDA MPAL.

Sheet DIRECTOR OBRAS PUB
A1: MUNICIPIO DE : SAN CRISTÒBAL DE LA BARRANCA,JALISCO
A2: RFC MSC 850101 FR1
A3: =[1]PRESIDENCIA!A3 -> SUELDO DEL 01 AL 15 DE AGOSTO DE 2026
B5: FORMA DE PAGO | H5: Dias | I5: Sueldo | J5: P E R C E P C I O N E S | M5: Horas | O5: TARIFA | U5: Credito | V5: I.S.R. | W5: Subsidio | X5: D E D U C C I O N E S | AA5: TOTAL
A6: Núm de Empleado | C6: Nombre | H6: Trab. | I6: diario | J6: Sueldo | K6: TIEMPO | L6: total | M6: Extras | N6: Base | O6: Limite | P6: Excedente | Q6: %/S exced. | R6: Impuesto | S6: Cuota | T6: I.S.R. | U6: Al | V6: a Cargo | W6: Al | X6: ISR Salarios | Y6: Prestamo | Z6: Total | AA6: A | AB6: F I R M A
J7: Quincenal | K7: EXTRA | L7: Percepcion | M7: Gravadas | N7: Gravable | O7: Inferior | P7: Limite Inf. | Q7: Limite Inf. | R7: Marginal | S7: Fija | T7: Bruto | U7: Salario | V7: o (A Favor) | W7: Empleo | Z7: Deduc. | AA7: PAGAR
C8: OBRAS PUBLICAS | D8: RFC | E8: CURP | F8: FECHA DE INGRESO | G8: PUESTO
A9: 190 | B9: 03 | C9: ABRAHAM ANCO GARCIA | D9: AOGA8509167A4 | E9: AOGA850916HJCNRB08 | F9: 46266 | G9: DIRECTOR GENERAL DE INFRAESTRUCTURA Y DESARROLLO SOCIAL | H9: 15 | I9: =J9/H9 -> 975.96667 | J9: 14639.5 | K9: 0 | L9: =SUM(J9:K9) -> 14639.5 | M9: =IF(J9/15<=SMG,0,K9/2) -> 0 | N9: =(J9+M9)/H9*30.4 -> 29669.387 | O9: =VLOOKUP(N9,Tarifa,1) -> 17533.65 | P9: =N9-O9 -> 12135.737 | Q9: =VLOOKUP(N9,Tarifa,3) -> 0.2136 | R9: =P9*Q9 -> 2592.1934 | S9: =VLOOKUP(N9,Tarifa,2) -> 1856.84 | T9: =R9+S9 -> 4449.0334 | U9: =VLOOKUP(N9,Credito,2) -> 0 | V9: =ROUND((T9-U9)/30.4*H9,2) -> 2195.25 | W9: =-IF(V9>0,0,0) -> 0 | X9: =IF(J9/15<=SMG,0,IF(V9<0,0,V9)) -> 2195.25 | Y9: 0 | Z9: =SUM(X9:Y9) -> 2195.25 | AA9: =L9+W9-Z9 -> 12444.25
B31: LIC. KARINA GUZMAN CARDONA | W31: MTRO. JOSÉ ACUÑA RUIZ
B32: PRESIDENTA MUNICIPAL | W32: TESORERO ENC. DE LA HACIENDA MPAL.

Sheet OBRAS PUBLICAS
A1: MUNICIPIO DE : SAN CRISTÒBAL DE LA BARRANCA,JALISCO
A2: RFC MSC 850101 FR1
A3: =PRESIDENCIA!A3 -> SUELDO DEL 15 AL 30 DE SEPTIEMBRE DE 2026
C5: FORMA DE PAGO | I5: Dias | J5: Sueldo | K5: P E R C E P C I O N E S | N5: Horas | P5: TARIFA | V5: Credito | W5: I.S.R. | X5: Subsidio | Y5: D E D U C C I O N E S | AB5: TOTAL
A6: Num. | B6: Núm de Empleado | D6: Nombre | I6: Trab. | J6: diario | K6: Sueldo | L6: TIEMPO | M6: total | N6: Extras | O6: Base | P6: Limite | Q6: Excedente | R6: %/S exced. | S6: Impuesto | T6: Cuota | U6: I.S.R. | V6: Al | W6: a Cargo | X6: Al | Y6: ISR Salarios | Z6: Prestamo | AA6: Total | AB6: A | AC6: F I R M A
K7: Quincenal | L7: EXTRA | M7: Percepcion | N7: Gravadas | O7: Gravable | P7: Inferior | Q7: Limite Inf. | R7: Limite Inf. | S7: Marginal | T7: Fija | U7: Bruto | V7: Salario | W7: o (A Favor) | X7: Empleo | AA7: Deduc. | AB7: PAGAR
D8: OBRAS PUBLICAS | E8: RFC | F8: CURP | G8: FECHA DE INGRESO | H8: PUESTO
B9: 326 | C9: 03 | D9: HORTENCIA SANDOVAL GONZALEZ | E9: SAGH920520275 | F9: SAGH920520MJCNNR08 | G9: 45139 | H9: AUXILIAR ADMINISTRATIVO | I9: 15 | J9: =K9/I9 -> 391.83333 | K9: 5877.5 | L9: 0 | M9: =SUM(K9:L9) -> 5877.5 | N9: =IF(K9/15<=SMG,0,L9/2) -> 0 | O9: =(K9+N9)/I9*30.4 -> 11911.733 | P9: =VLOOKUP(O9,Tarifa,1) -> 7168.52 | Q9: =O9-P9 -> 4743.2133 | R9: =VLOOKUP(O9,Tarifa,3) -> 0.1088 | S9: =Q9*R9 -> 516.06161 | T9: =VLOOKUP(O9,Tarifa,2) -> 420.95 | U9: =S9+T9 -> 937.01161 | V9: =VLOOKUP(O9,Credito,2) -> 0 | W9: =ROUND((U9-V9)/30.4*I9,2) -> 462.34 | X9: =-IF(W9>0,0,0) -> 0 | Y9: =IF(K9/15<=SMG,0,IF(W9<0,0,W9)) -> 462.34 | Z9: 0 | AA9: =SUM(Y9:Z9) -> 462.34 | AB9: =M9+X9-AA9 -> 5415.16
B10: 248 | C10: 03 | D10: GILBERTO CASTRO BALTIERRA | E10: CABG900204C29 | F10: CABG900204HJCSLL01 | G10: 43983 | H10: COORDINADOR DE MAQUINARIA Y ALMACEN MUNICIPAL | I10: 15 | J10: =K10/I10 -> 827.5 | K10: 12412.5 | L10: 0 | M10: =SUM(K10:L10) -> 12412.5 | N10: =IF(K10/15<=SMG,0,L10/2) -> 0 | O10: =(K10+N10)/I10*30.4 -> 25156 | P10: =VLOOKUP(O10,Tarifa,1) -> 17533.65 | Q10: =O10-P10 -> 7622.35 | R10: =VLOOKUP(O10,Tarifa,3) -> 0.2136 | S10: =Q10*R10 -> 1628.134 | T10: =VLOOKUP(O10,Tarifa,2) -> 1856.84 | U10: =S10+T10 -> 3484.974 | V10: =VLOOKUP(O10,Credito,2) -> 0 | W10: =ROUND((U10-V10)/30.4*I10,2) -> 1719.56 | X10: =-IF(W10>0,0,0) -> 0 | Y10: =IF(K10/15<=SMG,0,IF(W10<0,0,W10)) -> 1719.56 | Z10: 0 | AA10: =SUM(Y10:Z10) -> 1719.56 | AB10: =M10+X10-AA10 -> 10692.94
B11: 449 | C11: 03 | D11: ANA CECILIA MARQUEZ GARCIA | E11: MAGA940301VA2 | F11: MAGA940301MJCRRN06 | G11: 46280 | H11: AUXILIAR ADMINISTRATIVO | I11: 15 | J11: =K11/I11 -> 391.83333 | K11: 5877.5 | L11: 0 | M11: =SUM(K11:L11) -> 5877.5 | N11: =IF(K11/15<=SMG,0,L11/2) -> 0 | O11: =(K11+N11)/I11*30.4 -> 11911.733 | P11: =VLOOKUP(O11,Tarifa,1) -> 7168.52 | Q11: =O11-P11 -> 4743.2133 | R11: =VLOOKUP(O11,Tarifa,3) -> 0.1088 | S11: =Q11*R11 -> 516.06161 | T11: =VLOOKUP(O11,Tarifa,2) -> 420.95 | U11: =S11+T11 -> 937.01161 | V11: =VLOOKUP(O11,Credito,2) -> 0 | W11: =ROUND((U11-V11)/30.4*I11,2) -> 462.34 | X11: =-IF(W11>0,0,0) -> 0 | Y11: =IF(K11/15<=SMG,0,IF(W11<0,0,W11)) -> 462.34 | Z11: 0 | AA11: =SUM(Y11:Z11) -> 462.34 | AB11: =M11+X11-AA11 -> 5415.16
B12: 130 | C12: 03 | D12: J. NIEVES AVELAR RAMIREZ | E12: AERJ860323SE7 | F12: AERN860323HJCVMV12 | G12: 46286 | H12: OPERADOR MOTOCONFORMADORA | I12: 10 | J12: =K12/I12 -> 623 | K12: 6230 | L12: 0 | M12: =SUM(K12:L12) -> 6230 | N12: =IF(K12/15<=SMG,0,L12/2) -> 0 | O12: =(K12+N12)/I12*30.4 -> 18939.2 | P12: =VLOOKUP(O12,Tarifa,1) -> 17533.65 | Q12: =O12-P12 -> 1405.55 | R12: =VLOOKUP(O12,Tarifa,3) -> 0.2136 | S12: =Q12*R12 -> 300.22548 | T12: =VLOOKUP(O12,Tarifa,2) -> 1856.84 | U12: =S12+T12 -> 2157.0655 | V12: =VLOOKUP(O12,Credito,2) -> 0 | W12: =ROUND((U12-V12)/30.4*I12,2) -> 709.56 | X12: =-IF(W12>0,0,0) -> 0 | Y12: =IF(K12/15<=SMG,0,IF(W12<0,0,W12)) -> 709.56 | Z12: 0 | AA12: =SUM(Y12:Z12) -> 709.56 | AB12: =M12+X12-AA12 -> 5520.44
B13: 191 | C13: 03 | D13: JORGE CASTRO SANDOVAL | E13: CASJ6506153H7 | F13: CASJ650615HJCSNR03 | G13: 43512 | H13: OPERADOR EXCAVADORA | I13: 15 | J13: =K13/I13 -> 623 | K13: 9345 | L13: 0 | M13: =SUM(K13:L13) -> 9345 | N13: =IF(K13/15<=SMG,0,L13/2) -> 0 | O13: =(K13+N13)/I13*30.4 -> 18939.2 | P13: =VLOOKUP(O13,Tarifa,1) -> 17533.65 | Q13: =O13-P13 -> 1405.55 | R13: =VLOOKUP(O13,Tarifa,3) -> 0.2136 | S13: =Q13*R13 -> 300.22548 | T13: =VLOOKUP(O13,Tarifa,2) -> 1856.84 | U13: =S13+T13 -> 2157.0655 | V13: =VLOOKUP(O13,Credito,2) -> 0 | W13: =ROUND((U13-V13)/30.4*I13,2) -> 1064.34 | X13: =-IF(W13>0,0,0) -> 0 | Y13: =IF(K13/15<=SMG,0,IF(W13<0,0,W13)) -> 1064.34 | Z13: 0 | AA13: =SUM(Y13:Z13) -> 1064.34 | AB13: =M13+X13-AA13 -> 8280.66
B14: 296 | C14: 03 | D14: RAMIRO CASTRO HORTA | E14: CAHR900320NQ0 | F14: CAHR900320HJCSRN09 | G14: 44728 | H14: OPERADOR EXCAVADORA | I14: 15 | J14: =K14/I14 -> 623 | K14: 9345 | L14: 0 | M14: =SUM(K14:L14) -> 9345 | N14: =IF(K14/15<=SMG,0,L14/2) -> 0 | O14: =(K14+N14)/I14*30.4 -> 18939.2 | P14: =VLOOKUP(O14,Tarifa,1) -> 17533.65 | Q14: =O14-P14 -> 1405.55 | R14: =VLOOKUP(O14,Tarifa,3) -> 0.2136 | S14: =Q14*R14 -> 300.22548 | T14: =VLOOKUP(O14,Tarifa,2) -> 1856.84 | U14: =S14+T14 -> 2157.0655 | V14: =VLOOKUP(O14,Credito,2) -> 0 | W14: =ROUND((U14-V14)/30.4*I14,2) -> 1064.34 | X14: =-IF(W14>0,0,0) -> 0 | Y14: =IF(K14/15<=SMG,0,IF(W14<0,0,W14)) -> 1064.34 | Z14: 0 | AA14: =SUM(Y14:Z14) -> 1064.34 | AB14: =M14+X14-AA14 -> 8280.66
B16: MUNICIPIO DE : SAN CRISTÒBAL DE LA BARRANCA,JALISCO
B17: RFC MSC 850101 FR1
B18: =PRESIDENCIA!A3 -> SUELDO DEL 15 AL 30 DE SEPTIEMBRE DE 2026
B20: 245 | C20: 03 | D20: DAVID CASTRO AVILA | E20: CAAD880427EC1 | F20: CAAD880427HZSSVV05 | G20: 45475 | H20: OPERADOR EXCAVADORA | I20: 15 | J20: =K20/I20 -> 498.46667 | K20: 7477 | L20: 0 | M20: =SUM(K20:L20) -> 7477 | N20: =IF(K20/15<=SMG,0,L20/2) -> 0 | O20: =(K20+N20)/I20*30.4 -> 15153.387 | P20: =VLOOKUP(O20,Tarifa,1) -> 14644.65 | Q20: =O20-P20 -> 508.73667 | R20: =VLOOKUP(O20,Tarifa,3) -> 0.1792 | S20: =Q20*R20 -> 91.165611 | T20: =VLOOKUP(O20,Tarifa,2) -> 1339.14 | U20: =S20+T20 -> 1430.3056 | V20: =VLOOKUP(O20,Credito,2) -> 0 | W20: =ROUND((U20-V20)/30.4*I20,2) -> 705.74 | X20: =-IF(W20>0,0,0) -> 0 | Y20: =IF(K20/15<=SMG,0,IF(W20<0,0,W20)) -> 705.74 | Z20: 0 | AA20: =SUM(Y20:Z20) -> 705.74 | AB20: =M20+X20-AA20 -> 6771.26
B21: 386 | C21: 03 | D21: EFRAIN RAMIREZ CASTRO | E21: RACE671101261 | F21: RACE671101HJCMSF05 | G21: 45566 | H21: AUXILIAR DE OPERADOR | I21: 15 | J21: =K21/I21 -> 468.73333 | K21: 7031 | L21: 0 | M21: =SUM(K21:L21) -> 7031 | N21: =IF(K21/15<=SMG,0,L21/2) -> 0 | O21: =(K21+N21)/I21*30.4 -> 14249.493 | P21: =VLOOKUP(O21,Tarifa,1) -> 12598.03 | Q21: =O21-P21 -> 1651.4633 | R21: =VLOOKUP(O21,Tarifa,3) -> 0.16 | S21: =Q21*R21 -> 264.23413 | T21: =VLOOKUP(O21,Tarifa,2) -> 1011.68 | U21: =S21+T21 -> 1275.9141 | V21: =VLOOKUP(O21,Credito,2) -> 0 | W21: =ROUND((U21-V21)/30.4*I21,2) -> 629.56 | X21: =-IF(W21>0,0,0) -> 0 | Y21: =IF(K21/15<=SMG,0,IF(W21<0,0,W21)) -> 629.56 | Z21: 0 | AA21: =SUM(Y21:Z21) -> 629.56 | AB21: =M21+X21-AA21 -> 6401.44
B22: 360 | C22: 03 | D22: ENRIQUE CASTRO CASTRO | E22: CACE181220RTA | F22: CACE001218HJCSSNA5 | G22: 45459 | H22: AUXILIAR OBRAS PÚBLICAS | I22: 15 | J22: =K22/I22 -> 384.4 | K22: 5766 | L22: 0 | M22: =SUM(K22:L22) -> 5766 | N22: =IF(K22/15<=SMG,0,L22/2) -> 0 | O22: =(K22+N22)/I22*30.4 -> 11685.76 | P22: =VLOOKUP(O22,Tarifa,1) -> 7168.52 | Q22: =O22-P22 -> 4517.24 | R22: =VLOOKUP(O22,Tarifa,3) -> 0.1088 | S22: =Q22*R22 -> 491.47571 | T22: =VLOOKUP(O22,Tarifa,2) -> 420.95 | U22: =S22+T22 -> 912.42571 | V22: =VLOOKUP(O22,Credito,2) -> 0 | W22: =ROUND((U22-V22)/30.4*I22,2) -> 450.21 | X22: =-IF(W22>0,0,0) -> 0 | Y22: =IF(K22/15<=SMG,0,IF(W22<0,0,W22)) -> 450.21 | Z22: 0 | AA22: =SUM(Y22:Z22) -> 450.21 | AB22: =M22+X22-AA22 -> 5315.79
B23: 032 | C23: 03 | D23: JOSE BLANCO FRIAS | E23: BAFJ64022457A | F23: BAFJ640224HJCLRS16 | G23: 44728 | H23: MECANICO MUNICIPAL | I23: 15 | J23: =K23/I23 -> 455.53333 | K23: 6833 | L23: 0 | M23: =K23 -> 6833 | N23: =IF(K23/15<=SMG,0,L23/2) -> 0 | O23: =(K23+N23)/I23*30.4 -> 13848.213 | P23: =VLOOKUP(O23,Tarifa,1) -> 12598.03 | Q23: =O23-P23 -> 1250.1833 | R23: =VLOOKUP(O23,Tarifa,3) -> 0.16 | S23: =Q23*R23 -> 200.02933 | T23: =VLOOKUP(O23,Tarifa,2) -> 1011.68 | U23: =S23+T23 -> 1211.7093 | V23: =VLOOKUP(O23,Credito,2) -> 0 | W23: =ROUND((U23-V23)/30.4*I23,2) -> 597.88 | X23: =-IF(W23>0,0,0) -> 0 | Y23: =IF(K23/15<=SMG,0,IF(W23<0,0,W23)) -> 597.88 | Z23: 0 | AA23: =SUM(Y23:Z23) -> 597.88 | AB23: =M23+X23-AA23+L23 -> 6235.12
B24: 318 | C24: 03 | D24: PEDRO RAMIREZ CONTRERAS | E24: RACP571107NX8 | F24: RACP571107HJCMNS05 | G24: 45078 | H24: BODEGUERO | I24: 15 | J24: =K24/I24 -> 327 | K24: 4905 | L24: 654 | M24: =SUM(K24:L24) -> 5559 | N24: =IF(K24/15<=SMG,0,L24/2) -> 327 | O24: =(K24+N24)/I24*30.4 -> 10603.52 | P24: =VLOOKUP(O24,Tarifa,1) -> 7168.52 | Q24: =O24-P24 -> 3435 | R24: =VLOOKUP(O24,Tarifa,3) -> 0.1088 | S24: =Q24*R24 -> 373.728 | T24: =VLOOKUP(O24,Tarifa,2) -> 420.95 | U24: =S24+T24 -> 794.678 | V24: =VLOOKUP(O24,Credito,2) -> 535.65 | W24: =ROUND((U24-V24)/30.4*I24,2) -> 127.81 | X24: =-IF(W24>0,0,0) -> 0 | Y24: =IF(K24/15<=SMG,0,IF(W24<0,0,W24)) -> 127.81 | Z24: 0 | AA24: =SUM(Y24:Z24) -> 127.81 | AB24: =M24+X24-AA24 -> 5431.19
B25: 272 | C25: 03 | D25: EFRAIN ROBLES FLORES | E25: ROFE870509J60 | F25: ROFE870509HDGBLF05 | G25: 45754 | H25: CHOFER CAMION VOLTEO | I25: 15 | J25: =K25/I25 -> 543.73333 | K25: 8156 | L25: 1631 | M25: =SUM(K25:L25) -> 9787 | N25: =IF(K25/15<=SMG,0,L25/2) -> 815.5 | O25: =(K25+N25)/I25*30.4 -> 18182.24 | P25: =VLOOKUP(O25,Tarifa,1) -> 17533.65 | Q25: =O25-P25 -> 648.59 | R25: =VLOOKUP(O25,Tarifa,3) -> 0.2136 | S25: =Q25*R25 -> 138.53882 | T25: =VLOOKUP(O25,Tarifa,2) -> 1856.84 | U25: =S25+T25 -> 1995.3788 | V25: =VLOOKUP(O25,Credito,2) -> 0 | W25: =ROUND((U25-V25)/30.4*I25,2) -> 984.56 | X25: =-IF(W25>0,0,0) -> 0 | Y25: =IF(K25/15<=SMG,0,IF(W25<0,0,W25)) -> 984.56 | Z25: 0 | AA25: =SUM(Y25:Z25) -> 984.56 | AB25: =M25+X25-AA25 -> 8802.44
A26: T O T A L E S | K26: =SUM(K9:K25) -> 89255.5 | L26: =SUM(L9:L25) -> 2285 | M26: =SUM(M9:M25) -> 91540.5 | N26: =SUM(N9:N25) -> 1142.5 | O26: =SUM(O9:O25) -> 189519.68 | P26: =SUM(P9:P25) -> 156183.04 | Q26: =SUM(Q9:Q25) -> 33336.64 | R26: =SUM(R9:R25) -> 2.0024 | ... AB26: =SUM(AB9:AB25) -> 82562.26
D33: LIC. KARINA GUZMAN CARDONA | Y33: MTRO. JOSÉ ACUÑA RUIZ
D34: PRESIDENTA MUNICIPAL | Y34: TESORERO ENC. DE LA HACIENDA MPAL.

Sheet SERV.PBCOS
A1: MUNICIPIO DE : SAN CRISTÒBAL DE LA BARRANCA,JALISCO
A2: RFC MSC 850101 FR1
A3: =PRESIDENCIA!A3 -> SUELDO DEL 15 AL 30 DE SEPTIEMBRE DE 2026
I5: Dias | J5: Sueldo | K5: P E R C E P C I O N E S | N5: Horas | P5: TARIFA | V5: Credito | W5: I.S.R. | X5: Subsidio | Y5: D E D U C C I O N E S | AB5: TOTAL
A6: N° | B6: Núm de Empleado | C6: Forma de Pago | D6: Nombre | I6: Trab. | J6: diario | K6: Sueldo | L6: TIEMPO | M6: total | N6: Extras | O6: Base | P6: Limite | Q6: Excedente | R6: %/S exced. | S6: Impuesto | T6: Cuota | U6: I.S.R. | V6: Al | W6: a Cargo | X6: Al | Y6: ISR Salarios | Z6: Prestamo | AA6: Total | AB6: A | AC6: F I R M A
K7: Quincenal | L7: EXTRA | M7: Percepcion | N7: Gravadas | O7: Gravable | P7: Inferior | Q7: Limite Inf. | R7: Limite Inf. | S7: Marginal | T7: Fija | U7: Bruto | V7: Salario | W7: o (A Favor) | X7: Empleo | AA7: Deduc. | AB7: PAGAR
D8: SERVICIOS PUBLICOS | E8: RFC | F8: CURP | G8: FECHA DE INGRESO | H8: PUESTO | K8: =SUM(K9:K25) -> 53270.5 | L8: =SUM(L9:L25) -> 3100 | M8: =SUM(M9:M25) -> 54870.5 | X8: =SUM(X9:X25) -> 0 | Y8: =SUM(Y9:Y25) -> 2552.26 | Z8: =SUM(Z9:Z25) -> 0 | AA8: =SUM(AA9:AA25) -> 2552.26 | AB8: =SUM(AB9:AB26) -> 59134.03
B9: 195 | C9: 03 | D9: SANTIAGO SOLIS CASILLAS | E9: SOCS710314EB3 | F9: SOCS710314HJCLSN05 | G9: 43512 | H9: CHOFER DE ASEO PUBLICO | I9: 15 | J9: =K9/I9 -> 373.2 | K9: 5598 | L9: 0 | M9: =SUM(K9:L9) -> 5598 | N9: =IF(K9/15<=SMG,0,L9/2) -> 0 | O9: =(K9+N9)/I9*30.4 -> 11345.28 | P9: =VLOOKUP(O9,Tarifa,1) -> 7168.52 | Q9: =O9-P9 -> 4176.76 | R9: =VLOOKUP(O9,Tarifa,3) -> 0.1088 | S9: =Q9*R9 -> 454.43149 | T9: =VLOOKUP(O9,Tarifa,2) -> 420.95 | U9: =S9+T9 -> 875.38149 | V9: =VLOOKUP(O9,Credito,2) -> 535.65 | W9: =ROUND((U9-V9)/30.4*I9,2) -> 167.63 | X9: =-IF(W9>0,0,0) -> 0 | Y9: =IF(K9/15<=SMG,0,IF(W9<0,0,W9)) -> 167.63 | Z9: 0 | AA9: =SUM(Y9:Z9) -> 167.63 | AB9: =M9+X9-AA9 -> 5430.37
B10: 298 | C10: 03 | D10: ANGELBERTO CASILLAS SOLIS | E10: CASA730128UJ7 | F10: CASA730128HJCSLN01 | G10: 44743 | H10: CHOFER DE ASEO PUBLICO | I10: 15 | J10: =K10/I10 -> 373.2 | K10: 5598 | L10: 800 | M10: =SUM(K10:L10) -> 6398 | N10: =IF(K10/15<=SMG,0,L10/2) -> 400 | O10: =(K10+N10)/I10*30.4 -> 12155.947 | P10: =VLOOKUP(O10,Tarifa,1) -> 7168.52 | Q10: =O10-P10 -> 4987.4267 | R10: =VLOOKUP(O10,Tarifa,3) -> 0.1088 | S10: =Q10*R10 -> 542.63202 | T10: =VLOOKUP(O10,Tarifa,2) -> 420.95 | U10: =S10+T10 -> 963.58202 | V10: =VLOOKUP(O10,Credito,2) -> 0 | W10: =ROUND((U10-V10)/30.4*I10,2) -> 475.45 | X10: =-IF(W10>0,0,0) -> 0 | Y10: =IF(K10/15<=SMG,0,IF(W10<0,0,W10)) -> 475.45 | Z10: 0 | AA10: =SUM(Y10:Z10) -> 475.45 | AB10: =M10+X10-AA10 -> 5922.55
B11: 052 | C11: 03 | D11: EVERARDO RODRIGUEZ ARTEAGA | E11: ROAE8305268D9 | F11: ROAE830526HJCDRV07 | G11: 39448 | H11: AUXILIAR DE ASEO PUBLICO | I11: 15 | J11: =K11/I11 -> 373.2 | K11: 5598 | L11: 800 | M11: =SUM(K11:L11) -> 6398 | N11: =IF(K11/15<=SMG,0,L11/2) -> 400 | O11: =(K11+N11)/I11*30.4 -> 12155.947 | P11: =VLOOKUP(O11,Tarifa,1) -> 7168.52 | Q11: =O11-P11 -> 4987.4267 | R11: =VLOOKUP(O11,Tarifa,3) -> 0.1088 | S11: =Q11*R11 -> 542.63202 | T11: =VLOOKUP(O11,Tarifa,2) -> 420.95 | U11: =S11+T11 -> 963.58202 | V11: =VLOOKUP(O11,Credito,2) -> 0 | W11: =ROUND((U11-V11)/30.4*I11,2) -> 475.45 | X11: =-IF(W11>0,0,0) -> 0 | Y11: =IF(K11/15<=SMG,0,IF(W11<0,0,W11)) -> 475.45 | Z11: 0 | AA11: =SUM(Y11:Z11) -> 475.45 | AB11: =M11+X11-AA11 -> 5922.55
B12: 220 | C12: 03 | D12: MARIO AVILA AVILA | E12: AIAM870428GG7 | F12: AIAM870428HJCVVR02 | G12: 43617 | H12: AUXILIAR DE ASEO PUBLICO | I12: 15 | J12: =K12/I12 -> 373.2 | K12: 5598 | L12: 0 | M12: =SUM(K12:L12) -> 5598 | N12: =IF(K12/15<=SMG,0,L12/2) -> 0 | O12: =(K12+N12)/I12*30.4 -> 11345.28 | P12: =VLOOKUP(O12,Tarifa,1) -> 7168.52 | Q12: =O12-P12 -> 4176.76 | R12: =VLOOKUP(O12,Tarifa,3) -> 0.1088 | S12: =Q12*R12 -> 454.43149 | T12: =VLOOKUP(O12,Tarifa,2) -> 420.95 | U12: =S12+T12 -> 875.38149 | V12: =VLOOKUP(O12,Credito,2) -> 535.65 | W12: =ROUND((U12-V12)/30.4*I12,2) -> 167.63 | X12: =-IF(W12>0,0,0) -> 0 | Y12: =IF(K12/15<=SMG,0,IF(W12<0,0,W12)) -> 167.63 | Z12: 0 | AA12: =SUM(Y12:Z12) -> 167.63 | AB12: =M12+X12-AA12 -> 5430.37
B13: 141 | C13: 03 | D13: MARCO ANTONIO IBARRA RODRIGUEZ | E13: IARM881208T31 | F13: IARM881208HZSBDR03 | G13: 42948 | H13: AFANADOR PANTEÓN MUNICIPAL | I13: 15 | J13: =K13/I13 -> 455.13333 | K13: 6827 | L13: 1500 | M13: =K13 -> 6827 | N13: =IF(K13/15<=SMG,0,L13/2) -> 750 | O13: =(K13+N13)/I13*30.4 -> 15356.053 | P13: =VLOOKUP(O13,Tarifa,1) -> 14644.65 | Q13: =O13-P13 -> 711.40333 | R13: =VLOOKUP(O13,Tarifa,3) -> 0.1792 | S13: =Q13*R13 -> 127.48348 | T13: =VLOOKUP(O13,Tarifa,2) -> 1339.14 | U13: =S13+T13 -> 1466.6235 | V13: =VLOOKUP(O13,Credito,2) -> 0 | W13: =ROUND((U13-V13)/30.4*I13,2) -> 723.66 | X13: =-IF(W13>0,0,0) -> 0 | Y13: =IF(K13/15<=SMG,0,IF(W13<0,0,W13)) -> 723.66 | Z13: 0 | AA13: =SUM(Y13:Z13) -> 723.66 | AB13: =M13+X13-AA13+L13 -> 7603.34
B17: MUNICIPIO DE : SAN CRISTÒBAL DE LA BARRANCA,JALISCO
B18: RFC MSC 850101 FR1
B19: =PRESIDENCIA!A3 -> SUELDO DEL 15 AL 30 DE SEPTIEMBRE DE 2026
B21: 369 | C21: 03 | D21: J GUADALUPE IBARRA RODRIGUEZ | E21: IARG6001143M1 | F21: IARG600114HJCBDD00 | G21: 45566 | H21: AFANADOR PARQUE LA ISLA | I21: 15 | J21: =K21/I21 -> 327 | K21: 4905 | L21: 0 | M21: =SUM(K21:L21) -> 4905 | N21: =IF(K21/15<=SMG,0,L21/2) -> 0 | O21: =(K21+N21)/I21*30.4 -> 9940.8 | P21: =VLOOKUP(O21,Tarifa,1) -> 7168.52 | Q21: =O21-P21 -> 2772.28 | R21: =VLOOKUP(O21,Tarifa,3) -> 0.1088 | S21: =Q21*R21 -> 301.62406 | T21: =VLOOKUP(O21,Tarifa,2) -> 420.95 | U21: =S21+T21 -> 722.57406 | V21: =VLOOKUP(O21,Credito,2) -> 535.65 | W21: =ROUND((U21-V21)/30.4*I21,2) -> 92.23 | X21: =-IF(W21>0,0,0) -> 0 | Y21: =IF(K21/15<=SMG,0,IF(W21<0,0,W21)) -> 92.23 | Z21: 0 | AA21: =SUM(Y21:Z21) -> 92.23 | AB21: =M21+X21-AA21 -> 4812.77
B22: 027 | C22: 03 | D22: J JESUS PEREZ RODRIGUEZ | E22: PERJ580103KC6 | F22: PERJ580103HJCRDS17 | G22: 45123 | H22: AFANADOR UNIDAD DEPORTIVA | I22: 15 | J22: =K22/I22 -> 314.23333 | K22: 4713.5 | L22: 0 | M22: =SUM(K22:L22) -> 4713.5 | N22: =IF(K22/15<=SMG,0,L22/2) -> 0 | O22: =(K22+N22)/I22*30.4 -> 9552.6933 | P22: =VLOOKUP(O22,Tarifa,1) -> 7168.52 | Q22: =O22-P22 -> 2384.1733 | R22: =VLOOKUP(O22,Tarifa,3) -> 0.1088 | S22: =Q22*R22 -> 259.39806 | T22: =VLOOKUP(O22,Tarifa,2) -> 420.95 | U22: =S22+T22 -> 680.34806 | V22: =VLOOKUP(O22,Credito,2) -> 535.65 | W22: =ROUND((U22-V22)/30.4*I22,2) -> 71.4 | X22: =-IF(W22>0,0,0) -> 0 | Y22: =IF(K22/15<=SMG,0,IF(W22<0,0,W22)) -> 0 | Z22: 0 | AA22: =SUM(Y22:Z22) -> 0 | AB22: =M22+X22-AA22 -> 4713.5
B23: 226 | C23: 03 | D23: HERIBERTA AVILA VEGA | E23: AIVH7703037R6 | F23: AIVH770303MJCVGR09 | G23: 43709 | H23: AFANADORA PRESIDENCIA MUNICIPAL | I23: 15 | J23: =K23/I23 -> 296.66667 | K23: 4450 | L23: 0 | M23: =SUM(K23:L23) -> 4450 | N23: =IF(K23/15<=SMG,0,L23/2) -> 0 | O23: =(K23+N23)/I23*30.4 -> 9018.6667 | P23: =VLOOKUP(O23,Tarifa,1) -> 7168.52 | Q23: =O23-P23 -> 1850.1467 | R23: =VLOOKUP(O23,Tarifa,3) -> 0.1088 | S23: =Q23*R23 -> 201.29596 | T23: =VLOOKUP(O23,Tarifa,2) -> 420.95 | U23: =S23+T23 -> 622.24596 | V23: =VLOOKUP(O23,Credito,2) -> 535.65 | W23: =ROUND((U23-V23)/30.4*I23,2) -> 42.73 | X23: =-IF(W23>0,0,0) -> 0 | Y23: =IF(K23/15<=SMG,0,IF(W23<0,0,W23)) -> 0 | Z23: 0 | AA23: =SUM(Y23:Z23) -> 0 | AB23: =M23+X23-AA23 -> 4450
B24: 136 | C24: 03 | D24: MARGARITA SOLIS CASILLAS | E24: SOCM780618J44 | F24: SOCM780618MJCLSR05 | G24: 44473 | H24: AFANADORA DE LA PLAZA PRINCIPAL | I24: 15 | J24: =K24/I24 -> 281.13333 | K24: 4217 | L24: 0 | M24: =SUM(K24:L24) -> 4217 | N24: =IF(K24/15<=SMG,0,L24/2) -> 0 | O24: =(K24+N24)/I24*30.4 -> 8546.4533 | P24: =VLOOKUP(O24,Tarifa,1) -> 7168.52 | Q24: =O24-P24 -> 1377.9333 | R24: =VLOOKUP(O24,Tarifa,3) -> 0.1088 | S24: =Q24*R24 -> 149.91915 | T24: =VLOOKUP(O24,Tarifa,2) -> 420.95 | U24: =S24+T24 -> 570.86915 | V24: =VLOOKUP(O24,Credito,2) -> 535.65 | W24: =ROUND((U24-V24)/30.4*I24,2) -> 17.38 | X24: =-IF(W24>0,0,0) -> 0 | Y24: =IF(K24/15<=SMG,0,IF(W24<0,0,W24)) -> 0 | Z24: 0 | AA24: =SUM(Y24:Z24) -> 0 | AB24: =M24+X24-AA24 -> 4217
B25: 402 | C25: 03 | D25: MARIO ERNESTO AVILA HERRERA | E25: AIHM9301091E4 | F25: AIHM930109HJCVRR08 | G25: 45673 | H25: AUXILIAR | I25: 15 | J25: =K25/I25 -> 384.4 | K25: 5766 | L25: 0 | M25: =SUM(K25:L25) -> 5766 | N25: =IF(K25/15<=SMG,0,L25/2) -> 0 | O25: =(K25+N25)/I25*30.4 -> 11685.76 | P25: =VLOOKUP(O25,Tarifa,1) -> 7168.52 | Q25: =O25-P25 -> 4517.24 | R25: =VLOOKUP(O25,Tarifa,3) -> 0.1088 | S25: =Q25*R25 -> 491.47571 | T25: =VLOOKUP(O25,Tarifa,2) -> 420.95 | U25: =S25+T25 -> 912.42571 | V25: =VLOOKUP(O25,Credito,2) -> 0 | W25: =ROUND((U25-V25)/30.4*I25,2) -> 450.21 | X25: =-IF(W25>0,0,0) -> 0 | Y25: =IF(K25/15<=SMG,0,IF(W25<0,0,W25)) -> 450.21 | Z25: 0 | AA25: =SUM(Y25:Z25) -> 450.21 | AB25: =M25+X25-AA25 -> 5315.79
B26: 430 | C26: 03 | D26: FRANCISCO JAVIER CASTRO ULLOA | E26: CAUF070427CV5 | F26: CAUF070427HJCSLRA1 | G26: 45901 | H26: AUXILIAR | I26: 15 | J26: =K26/I26 -> 384.4 | K26: 5766 | L26: 0 | M26: =SUM(K26:L26) -> 5766 | N26: =IF(K26/15<=SMG,0,L26/2) -> 0 | O26: =(K26+N26)/I26*30.4 -> 11685.76 | P26: =VLOOKUP(O26,Tarifa,1) -> 7168.52 | Q26: =O26-P26 -> 4517.24 | R26: =VLOOKUP(O26,Tarifa,3) -> 0.1088 | S26: =Q26*R26 -> 491.47571 | T26: =VLOOKUP(O26,Tarifa,2) -> 420.95 | U26: =S26+T26 -> 912.42571 | V26: =VLOOKUP(O26,Credito,2) -> 0 | W26: =ROUND((U26-V26)/30.4*I26,2) -> 450.21 | X26: =-IF(W26>0,0,0) -> 0 | Y26: =IF(K26/15<=SMG,0,IF(W26<0,0,W26)) -> 450.21 | Z26: 0 | AA26: =SUM(Y26:Z26) -> 450.21 | AB26: =M26+X26-AA26 -> 5315.79
B29: MUNICIPIO DE : SAN CRISTÒBAL DE LA BARRANCA,JALISCO
B30: RFC MSC 850101 FR1
B31: =PRESIDENCIA!A3 -> SUELDO DEL 15 AL 30 DE SEPTIEMBRE DE 2026
B33: Núm de Empleado | C33: Forma de Pago | D33: AGUA POTABLE | E33: RFC | F33: CURP | G33: FECHA DE INGRESO | H33: PUESTO | K33: =SUM(K34:K34) -> 7290.5 | L33: =SUM(L34:L34) -> 0 | M33: =SUM(M34:M34) -> 7290.5 | X33: =SUM(X34:X34) -> 0 | Y33: =SUM(Y34:Y34) -> 672.32 | Z33: =SUM(Z34:Z34) -> 0 | AA33: =SUM(AA34:AA34) -> 672.32 | AB33: =SUM(AB34:AB34) -> 6618.18
B34: 198 | C34: 03 | D34: DAVID CASTRO RAMIREZ | E34: CARD630626GL5 | F34: CARD630626HJCSMV08 | G34: 43512 | H34: ALBAÑIL Y FONTANERO | I34: 15 | J34: =K34/I34 -> 486.03333 | K34: 7290.5 | L34: 0 | M34: =SUM(K34:L34) -> 7290.5 | N34: =IF(K34/15<=SMG,0,L34/2) -> 0 | O34: =(K34+N34)/I34*30.4 -> 14775.413 | P34: =VLOOKUP(O34,Tarifa,1) -> 14644.65 | Q34: =O34-P34 -> 130.76333 | R34: =VLOOKUP(O34,Tarifa,3) -> 0.1792 | S34: =Q34*R34 -> 23.432789 | T34: =VLOOKUP(O34,Tarifa,2) -> 1339.14 | U34: =S34+T34 -> 1362.5728 | V34: =VLOOKUP(O34,Credito,2) -> 0 | W34: =ROUND((U34-V34)/30.4*I34,2) -> 672.32 | X34: =-IF(W34>0,0,0) -> 0 | Y34: =IF(K34/15<=SMG,0,IF(W34<0,0,W34)) -> 672.32 | Z34: 0 | AA34: =SUM(Y34:Z34) -> 672.32 | AB34: =M34+X34-AA34 -> 6618.18
B35: Núm de Empleado | C35: Forma de Pago | D35: SERVICIOS PUBLICOS | E35: RFC | F35: CURP | G35: FECHA DE INGRESO | H35: PUESTO | K35: =SUM(K36:K37) -> 13537.6 | L35: =SUM(L36:L37) -> 1631 | M35: =SUM(M36:M37) -> 15168.6 | X35: =SUM(X36:X37) -> 0 | Y35: =SUM(Y36:Y37) -> 1404.76 | Z35: =SUM(Z36:Z37) -> 0 | AA35: =SUM(AA36:AA37) -> 1404.76 | AB35: =SUM(AB36:AB37) -> 13763.84
B36: 271 | C36: 03 | D36: VICTORIANO SANDOVAL FLORES | E36: SAFV890702G75 | F36: SAFV890702HJCNLC08 | G36: 44470 | H36: ELECTRICISTA | I36: 15 | J36: =K36/I36 -> 543.73333 | K36: 8156 | L36: 1631 | M36: =SUM(K36:L36) -> 9787 | N36: =IF(K36/15<=SMG,0,L36/2) -> 815.5 | O36: =(K36+N36)/I36*30.4 -> 18182.24 | P36: =VLOOKUP(O36,Tarifa,1) -> 17533.65 | Q36: =O36-P36 -> 648.59 | R36: =VLOOKUP(O36,Tarifa,3) -> 0.2136 | S36: =Q36*R36 -> 138.53882 | T36: =VLOOKUP(O36,Tarifa,2) -> 1856.84 | U36: =S36+T36 -> 1995.3788 | V36: =VLOOKUP(O36,Credito,2) -> 0 | W36: =ROUND((U36-V36)/30.4*I36,2) -> 984.56 | X36: =-IF(W36>0,0,0) -> 0 | Y36: =IF(K36/15<=SMG,0,IF(W36<0,0,W36)) -> 984.56 | Z36: 0 | AA36: =SUM(Y36:Z36) -> 984.56 | AB36: =M36+X36-AA36 -> 8802.44
B37: 395 | C37: 03 | D37: JOSE RIVERA FLORES | E37: RIFJ771230D57 | F37: RIFJ771230HJCVLS00 | G37: 45459 | H37: AUXILIAR OBRAS PUBLICAS | I37: 14 | J37: =K37/I37 -> 384.4 | K37: 5381.6 | L37: 0 | M37: =SUM(K37:L37) -> 5381.6 | N37: =IF(K37/15<=SMG,0,L37/2) -> 0 | O37: =(K37+N37)/I37*30.4 -> 11685.76 | P37: =VLOOKUP(O37,Tarifa,1) -> 7168.52 | Q37: =O37-P37 -> 4517.24 | R37: =VLOOKUP(O37,Tarifa,3) -> 0.1088 | S37: =Q37*R37 -> 491.47571 | T37: =VLOOKUP(O37,Tarifa,2) -> 420.95 | U37: =S37+T37 -> 912.42571 | V37: =VLOOKUP(O37,Credito,2) -> 0 | W37: =ROUND((U37-V37)/30.4*I37,2) -> 420.2 | X37: =-IF(W37>0,0,0) -> 0 | Y37: =IF(K37/15<=SMG,0,IF(W37<0,0,W37)) -> 420.2 | Z37: 0 | AA37: =SUM(Y37:Z37) -> 420.2 | AB37: =M37+X37-AA37 -> 4961.4
B38: Núm de Empleado | C38: Forma de Pago | D38: AGUA POTABLE | E38: RFC | F38: CURP | G38: FECHA DE INGRESO | H38: PUESTO | K38: =SUM(K39:K39) -> 7031.5 | L38: =SUM(L39:L39) -> 0 | M38: =SUM(M39:M39) -> 7031.5 | X38: =SUM(X39:X39) -> 0 | Y38: =SUM(Y39:Y39) -> 629.64 | Z38: =SUM(Z39:Z39) -> 0 | AA38: =SUM(AA39:AA39) -> 629.64 | AB38: =SUM(AB39:AB39) -> 6401.86
A39: 2 | B39: 168 | C39: 03 | D39: JOSE MAGDALENO CASTRO AVELAR | E39: CAAM750115HV3 | F39: CAAM750115HJCSVG03 | G39: 43374 | H39: AUXILIAR DISTRIBUCIÓN DE AGUA POTABLE | I39: 15 | J39: =K39/I39 -> 468.76667 | K39: 7031.5 | L39: 0 | M39: =SUM(K39:L39) -> 7031.5 | N39: =IF(K39/15<=SMG,0,L39/2) -> 0 | O39: =(K39+N39)/I39*30.4 -> 14250.507 | P39: =VLOOKUP(O39,Tarifa,1) -> 12598.03 | Q39: =O39-P39 -> 1652.4767 | R39: =VLOOKUP(O39,Tarifa,3) -> 0.16 | S39: =Q39*R39 -> 264.39627 | T39: =VLOOKUP(O39,Tarifa,2) -> 1011.68 | U39: =S39+T39 -> 1276.0763 | V39: =VLOOKUP(O39,Credito,2) -> 0 | W39: =ROUND((U39-V39)/30.4*I39,2) -> 629.64 | X39: =-IF(W39>0,0,0) -> 0 | Y39: =IF(K39/15<=SMG,0,IF(W39<0,0,W39)) -> 629.64 | Z39: 0 | AA39: =SUM(Y39:Z39) -> 629.64 | AB39: =M39+X39-AA39 -> 6401.86
A41: T O T A L E S | K41: =K8+K35+K38+K33 -> 81130.1 | L41: =L8+L35+L38+L33 -> 4731 | M41: =M8+M35+M38+M33 -> 84361.1 | N41: =SUM(N9:N40) -> 2365.5 | O41: =SUM(O9:O40) -> 181682.56 | P41: =SUM(P9:P40) -> 138274.7 | Q41: =SUM(Q9:Q40) -> 43407.86 | R41: =SUM(R9:R40) -> 1.9288 | S41: =SUM(S9:S40) -> 4934.6427 | T41: =SUM(T9:T40) -> 10177.25 | U41: =SUM(U9:U40) -> 15111.893 | ... W41: =SUM(W9:W40) -> 5840.7 | X41: =X8+X35+X38+X33 -> 0 | Y41: =Y8+Y35+Y38+Y33 -> 5258.98 | Z41: =Z8+Z35+Z38+Z33 -> 0 | AA41: =AA8+AA35+AA38+AA33 -> 5258.98 | AB41: =AB8+AB35+AB38+AB33 -> 85917.91
D50: LIC. KARINA GUZMAN CARDONA | Y50: MTRO. JOSÉ ACUÑA RUIZ
D51: PRESIDENTA MUNICIPAL | Y51: TESORERO ENC. DE LA HACIENDA MPAL.

Sheet PROGRAMAS
A1: MUNICIPIO DE : SAN CRISTÒBAL DE LA BARRANCA,JALISCO
A2: RFC MSC 850101 FR1
A3: =PRESIDENCIA!A3 -> SUELDO DEL 15 AL 30 DE SEPTIEMBRE DE 2026
C5: Forma de Pago | I5: Dias | J5: Sueldo | K5: P E R C E P C I O N E S | N5: Horas | P5: TARIFA | V5: Credito | W5: I.S.R. | X5: Subsidio | Y5: D E D U C C I O N E S | AB5: TOTAL
A6: Num. | B6: Núm de Empleado | D6: Nombre | I6: Trab. | J6: diario | K6: Sueldo | L6: TIEMPO | M6: total | N6: Extras | O6: Base | P6: Limite | Q6: Excedente | R6: %/S exced. | S6: Impuesto | T6: Cuota | U6: I.S.R. | V6: Al | W6: a Cargo | X6: Al | Y6: ISR Salarios | Z6: Prestamo | AA6: Total | AB6: A | AC6: F I R M A
K7: Quincenal | L7: EXTRA | M7: Percepcion | N7: Gravadas | O7: Gravable | P7: Inferior | Q7: Limite Inf. | R7: Limite Inf. | S7: Marginal | T7: Fija | U7: Bruto | V7: Salario | W7: o (A Favor) | X7: Empleo | AA7: Deduc. | AB7: PAGAR
B8: Núm de Empleado | C8: Forma de Pago | D8: PROYECTOS PRODUCTIVOS | E8: RFC | F8: CURP | G8: FECHA DE INGRESO | H8: PUESTO | K8: =SUM(K9:K9) -> 7962 | L8: =SUM(L9:L9) -> 0 | M8: =SUM(M9:M9) -> 7962 | N8: =SUM(N9:N9) -> 0 | O8: =SUM(O9:O9) -> 16136.32 | P8: =SUM(P9:P9) -> 14644.65 | Q8: =SUM(Q9:Q9) -> 1491.67 | R8: =SUM(R9:R9) -> 0.1792 | ... AB8: =SUM(AB9:AB9) -> 7169.35
B9: 379 | C9: 03 | D9: TATIANA ESTEPHANY GONZALEZ CASTRO | E9: GOCT960620IJ3 | F9: GOCT960620MJCNST03 | G9: 46266 | H9: DIRECTORA DE DESARROLLO AGROPECUARIO | I9: 15 | J9: 530.8 | K9: 7962 | L9: 0 | M9: =SUM(K9:L9) -> 7962 | N9: =IF(K9/15<=SMG,0,L9/2) -> 0 | O9: =(K9+N9)/I9*30.4 -> 16136.32 | P9: =VLOOKUP(O9,Tarifa,1) -> 14644.65 | Q9: =O9-P9 -> 1491.67 | R9: =VLOOKUP(O9,Tarifa,3) -> 0.1792 | S9: =Q9*R9 -> 267.30726 | T9: =VLOOKUP(O9,Tarifa,2) -> 1339.14 | U9: =S9+T9 -> 1606.4473 | V9: =VLOOKUP(O9,Credito,2) -> 0 | W9: =ROUND((U9-V9)/30.4*I9,2) -> 792.65 | X9: =-IF(W9>0,0,0) -> 0 | Y9: =IF(K9/15<=SMG,0,IF(W9<0,0,W9)) -> 792.65 | Z9: 0 | AA9: =SUM(Y9:Z9) -> 792.65 | AB9: =M9+X9-AA9 -> 7169.35
B10: Núm de Empleado | C10: Forma de Pago | D10: PROTECCIÓN CIVIL | E10: RFC | F10: CURP | G10: FECHA DE INGRESO | H10: PUESTO | K10: =SUM(K11:K11) -> 8746 | L10: =SUM(L11:L11) -> 1166 | M10: =SUM(M11:M11) -> 9912 | N10: =SUM(N11:N11) -> 583 | O10: =SUM(O11:O11) -> 18906.773 | P10: =SUM(P11:P11) -> 17533.65 | Q10: =SUM(Q11:Q11) -> 1373.1233 | R10: =SUM(R11:R11) -> 0.2136 | ... AA10: =SUM(AA11:AA11) -> 1060.92 | AB10: =SUM(AB11:AB12) -> 14282.27
B11: 335 | C11: 03 | D11: LUIS ENRIQUE GARCIA PEREZ | E11: GAPL911031163 | F11: GAPL911031HHGRRS01 | G11: 46204 | H11: DIRECTOR DE PROTECCIÓN CIVIL | I11: 15 | J11: =K11/I11 -> 583.06667 | K11: 8746 | L11: 1166 | M11: =SUM(K11:L11) -> 9912 | N11: =IF(K11/15<=SMG,0,L11/2) -> 583 | O11: =(K11+N11)/I11*30.4 -> 18906.773 | P11: =VLOOKUP(O11,Tarifa,1) -> 17533.65 | Q11: =O11-P11 -> 1373.1233 | R11: =VLOOKUP(O11,Tarifa,3) -> 0.2136 | S11: =Q11*R11 -> 293.29914 | T11: =VLOOKUP(O11,Tarifa,2) -> 1856.84 | U11: =S11+T11 -> 2150.1391 | V11: =VLOOKUP(O11,Credito,2) -> 0 | W11: =ROUND((U11-V11)/30.4*I11,2) -> 1060.92 | X11: =-IF(W11>0,0,0) -> 0 | Y11: =IF(K11/15<=SMG,0,IF(W11<0,0,W11)) -> 1060.92 | Z11: 0 | AA11: =SUM(Y11:Z11) -> 1060.92 | AB11: =M11+X11-AA11 -> 8851.08
B12: 446 | C12: 03 | D12: FERNANDO ROBLES MARTINEZ | E12: ROMF770608HG5 | F12: ROMF770608HJCBRR05 | G12: 46212 | H12: AUXILIAR DE PROTECCIÓN CIVIL | I12: 15 | J12: =K12/I12 -> 327 | K12: 4905 | L12: 654 | M12: =SUM(K12:L12) -> 5559 | N12: =IF(K12/15<=SMG,0,L12/2) -> 327 | O12: =(K12+N12)/I12*30.4 -> 10603.52 | P12: =VLOOKUP(O12,Tarifa,1) -> 7168.52 | Q12: =O12-P12 -> 3435 | R12: =VLOOKUP(O12,Tarifa,3) -> 0.1088 | S12: =Q12*R12 -> 373.728 | T12: =VLOOKUP(O12,Tarifa,2) -> 420.95 | U12: =S12+T12 -> 794.678 | V12: =VLOOKUP(O12,Credito,2) -> 535.65 | W12: =ROUND((U12-V12)/30.4*I12,2) -> 127.81 | X12: =-IF(W12>0,0,0) -> 0 | Y12: =IF(K12/15<=SMG,0,IF(W12<0,0,W12)) -> 127.81 | Z12: 0 | AA12: =SUM(Y12:Z12) -> 127.81 | AB12: =M12+X12-AA12 -> 5431.19
B13: Núm de Empleado | C13: Forma de Pago | D13: CULTURA | E13: RFC | F13: CURP | G13: FECHA DE INGRESO | H13: PUESTO | K13: =SUM(K15:K22) -> 8648 | L13: =SUM(L15:L22) -> 0 | M13: =SUM(M15:M22) -> 8648 | N13: =SUM(N15) -> 0 | O13: =SUM(O15) -> 8512 | P13: =SUM(P15) -> 7168.52 | Q13: =SUM(Q15) -> 1343.48 | R13: =SUM(R15) -> 0.1088 | S13: =SUM(S15) -> 146.17062 | T13: =SUM(T15) -> 420.95 | U13: =SUM(U15) -> 567.12062 | ... W13: =SUM(W15) -> 15.53 | X13: =SUM(X15:X22) -> 0 | Y13: =SUM(Y15:Y22) -> 0 | Z13: =SUM(Z15:Z22) -> 0 | AA13: =SUM(AA15:AA22) -> 0 | AB13: =SUM(AB14:AB22) -> 19546.98
B14: 421 | C14: 03 | D14: MARIA GUADALUPE BAÑUELOS RAMIREZ | E14: BARG880329217 | F14: BARG880329MJCXMD06 | G14: 45778 | H14: DIRECTORA DE TURISMO, CULTURA Y FOMENTO ARTESANAL | I14: 15 | J14: =K14/I14 -> 844.96667 | K14: 12674.5 | L14: 0 | M14: =SUM(K14:L14) -> 12674.5 | N14: =IF(K14/15<=SMG,0,L14/2) -> 0 | O14: =(K14+N14)/I14*30.4 -> 25686.987 | P14: =VLOOKUP(O14,Tarifa,1) -> 17533.65 | Q14: =O14-P14 -> 8153.3367 | R14: =VLOOKUP(O14,Tarifa,3) -> 0.2136 | S14: =Q14*R14 -> 1741.5527 | T14: =VLOOKUP(O14,Tarifa,2) -> 1856.84 | U14: =S14+T14 -> 3598.3927 | V14: =VLOOKUP(O14,Credito,2) -> 0 | W14: =ROUND((U14-V14)/30.4*I14,2) -> 1775.52 | X14: =-IF(W14>0,0,0) -> 0 | Y14: =IF(K14/15<=SMG,0,IF(W14<0,0,W14)) -> 1775.52 | Z14: 0 | AA14: =SUM(Y14:Z14) -> 1775.52 | AB14: =M14+X14-AA14 -> 10898.98
B15: 336 | C15: 03 | D15: LAURA AZUCENA AVILA ORTEGA | E15: AIOL8510192M4 | F15: AIOL851019MCVRR02 | G15: 45154 | H15: AUXILIAR CASA DE LA CULTURA | I15: 15 | J15: =K15/I15 -> 280 | K15: 4200 | L15: 0 | M15: =SUM(K15:L15) -> 4200 | N15: =IF(K15/15<=SMG,0,L15/2) -> 0 | O15: =(K15+N15)/I15*30.4 -> 8512 | P15: =VLOOKUP(O15,Tarifa,1) -> 7168.52 | Q15: =O15-P15 -> 1343.48 | R15: =VLOOKUP(O15,Tarifa,3) -> 0.1088 | S15: =Q15*R15 -> 146.17062 | T15: =VLOOKUP(O15,Tarifa,2) -> 420.95 | U15: =S15+T15 -> 567.12062 | V15: =VLOOKUP(O15,Credito,2) -> 535.65 | W15: =ROUND((U15-V15)/30.4*I15,2) -> 15.53 | X15: =-IF(W15>0,0,0) -> 0 | Y15: =IF(K15/15<=SMG,0,IF(W15<0,0,W15)) -> 0 | Z15: 0 | AA15: =SUM(Y15:Z15) -> 0 | AB15: =M15+X15-AA15 -> 4200
B18: MUNICIPIO DE : SAN CRISTÒBAL DE LA BARRANCA,JALISCO
B19: RFC MSC 850101 FR1
B20: =PRESIDENCIA!A3 -> SUELDO DEL 15 AL 30 DE SEPTIEMBRE DE 2026
B22: 433 | C22: 03 | D22: MYRIAM ALONDRA MURILLO RAMIREZ | E22: MURM981221VC3 | F22: MURM951221MJCRMY01 | G22: 45945 | H22: AUXILIAR DE BIBLIOTECA MUNICIPAL | I22: 15 | J22: =K22/I22 -> 296.53333 | K22: 4448 | L22: 0 | M22: =SUM(K22:L22) -> 4448 | N22: =IF(K22/15<=SMG,0,L22/2) -> 0 | O22: =(K22+N22)/I22*30.4 -> 9014.6133 | P22: =VLOOKUP(O22,Tarifa,1) -> 7168.52 | Q22: =O22-P22 -> 1846.0933 | R22: =VLOOKUP(O22,Tarifa,3) -> 0.1088 | S22: =Q22*R22 -> 200.85495 | T22: =VLOOKUP(O22,Tarifa,2) -> 420.95 | U22: =S22+T22 -> 621.80495 | V22: =VLOOKUP(O22,Credito,2) -> 535.65 | W22: =ROUND((U22-V22)/30.4*I22,2) -> 42.51 | X22: =-IF(W22>0,0,0) -> 0 | Y22: =IF(K22/15<=SMG,0,IF(W22<0,0,W22)) -> 0 | Z22: 0 | AA22: =SUM(Y22:Z22) -> 0 | AB22: =M22+X22-AA22 -> 4448
B23: Núm de Empleado | C23: Forma de Pago | D23: TURISMO | E23: RFC | F23: CURP | G23: FECHA DE INGRESO | H23: PUESTO | K23: =SUM(K24:K24) -> 9277.5 | L23: =SUM(L24:L24) -> 0 | M23: =SUM(M24:M24) -> 9277.5 | N23: =#REF!+N24+#REF! -> #REF! | O23: =#REF!+O24+#REF! -> #REF! | P23: =#REF!+P24+#REF! -> #REF! | Q23: =#REF!+Q24+#REF! -> #REF! | R23: =#REF!+R24+#REF! -> #REF! | S23: =#REF!+S24+#REF! -> #REF! | T23: =#REF!+T24+#REF! -> #REF! | U23: =#REF!+U24+#REF! -> #REF! | ... W23: =#REF!+W24+#REF! -> #REF! | X23: =SUM(X24:X24) -> 0 | Y23: =SUM(Y24:Y24) -> 1049.92 | Z23: =SUM(Z24:Z24) -> 0 | AA23: =SUM(AA24:AA24) -> 1049.92 | AB23: =SUM(AB24:AB24) -> 8227.58
B24: 327 | C24: 03 | D24: LUZ MARIA GARCIA LOPEZ | E24: GALL760906NQ1 | F24: GALL760906MJCRPZ09 | G24: 45108 | H24: DIRECTORA DE COMUNICACIÓN SOCIAL Y MEDIOS | I24: 15 | J24: =K24/I24 -> 618.5 | K24: 9277.5 | L24: 0 | M24: =SUM(K24:L24) -> 9277.5 | N24: =IF(K24/15<=SMG,0,L24/2) -> 0 | O24: =(K24+N24)/I24*30.4 -> 18802.4 | P24: =VLOOKUP(O24,Tarifa,1) -> 17533.65 | Q24: =O24-P24 -> 1268.75 | R24: =VLOOKUP(O24,Tarifa,3) -> 0.2136 | S24: =Q24*R24 -> 271.005 | T24: =VLOOKUP(O24,Tarifa,2) -> 1856.84 | U24: =S24+T24 -> 2127.845 | V24: =VLOOKUP(O24,Credito,2) -> 0 | W24: =ROUND((U24-V24)/30.4*I24,2) -> 1049.92 | X24: =-IF(W24>0,0,0) -> 0 | Y24: =IF(K24/15<=SMG,0,IF(W24<0,0,W24)) -> 1049.92 | Z24: 0 | AA24: =SUM(Y24:Z24) -> 1049.92 | AB24: =M24+X24-AA24 -> 8227.58
B25: Núm de Empleado | C25: Forma de Pago | D25: DEPORTE | E25: RFC | F25: CURP | G25: FECHA DE INGRESO | H25: PUESTO | K25: =SUM(K26) -> 6393.5 | L25: =SUM(L26) -> 0 | M25: =SUM(M26) -> 6393.5 | X25: =SUM(X26) -> 0 | Y25: =SUM(Y26) -> 527.56 | Z25: =SUM(Z26) -> 0 | AA25: =SUM(AA26) -> 527.56 | AB25: =SUM(AB26) -> 5865.94
B26: 299 | C26: 03 | D26: JORGE ALBERTO CASTRO RODRIGUEZ | E26: CARJ880410LP2 | F26: CARJ880410HJCSDR09 | G26: 45566 | H26: DIRECTOR DE UNIDAD DEPORTIVA | I26: 15 | J26: =K26/I26 -> 426.23333 | K26: 6393.5 | L26: 0 | M26: =SUM(K26:L26) -> 6393.5 | N26: =IF(K26/15<=SMG,0,L26/2) -> 0 | O26: =(K26+N26)/I26*30.4 -> 12957.493 | P26: =VLOOKUP(O26,Tarifa,1) -> 12598.03 | Q26: =O26-P26 -> 359.46333 | R26: =VLOOKUP(O26,Tarifa,3) -> 0.16 | S26: =Q26*R26 -> 57.514133 | T26: =VLOOKUP(O26,Tarifa,2) -> 1011.68 | U26: =S26+T26 -> 1069.1941 | V26: =VLOOKUP(O26,Credito,2) -> 0 | W26: =ROUND((U26-V26)/30.4*I26,2) -> 527.56 | X26: =-IF(W26>0,0,0) -> 0 | Y26: =IF(K26/15<=SMG,0,IF(W26<0,0,W26)) -> 527.56 | Z26: 0 | AA26: =SUM(Y26:Z26) -> 527.56 | AB26: =M26+X26-AA26 -> 5865.94
B27: Núm de Empleado | C27: Forma de Pago | D27: INSTITUTO MUNICIPAL DE LA MUJER | E27: RFC | F27: CURP | G27: FECHA DE INGRESO | H27: PUESTO | K27: =SUM(K28) -> 7962 | L27: =SUM(L28) -> 0 | M27: =SUM(M28) -> 7962 | X27: =SUM(X28) -> 0 | Y27: =SUM(Y28) -> 792.65 | Z27: =SUM(Z28) -> 0 | AA27: =SUM(AA28) -> 792.65 | AB27: =SUM(AB28) -> 7169.35
B28: 375 | C28: 03 | D28: GABRIELA CASTRO RAMIREZ | E28: CARG9002271P5 | F28: CARG900227MJCSMB16 | G28: 45566 | H28: DIRECTORA DEL INSTITUTO MUNICIPAL DE LA MUJER | I28: 15 | J28: =K28/I28 -> 530.8 | K28: 7962 | L28: 0 | M28: =SUM(K28:L28) -> 7962 | N28: =IF(K28/15<=SMG,0,L28/2) -> 0 | O28: =(K28+N28)/I28*30.4 -> 16136.32 | P28: =VLOOKUP(O28,Tarifa,1) -> 14644.65 | Q28: =O28-P28 -> 1491.67 | R28: =VLOOKUP(O28,Tarifa,3) -> 0.1792 | S28: =Q28*R28 -> 267.30726 | T28: =VLOOKUP(O28,Tarifa,2) -> 1339.14 | U28: =S28+T28 -> 1606.4473 | V28: =VLOOKUP(O28,Credito,2) -> 0 | W28: =ROUND((U28-V28)/30.4*I28,2) -> 792.65 | X28: =-IF(W28>0,0,0) -> 0 | Y28: =IF(K28/15<=SMG,0,IF(W28<0,0,W28)) -> 792.65 | Z28: 0 | AA28: =SUM(Y28:Z28) -> 792.65 | AB28: =M28+X28-AA28 -> 7169.35
B30: MUNICIPIO DE : SAN CRISTÒBAL DE LA BARRANCA,JALISCO
B31: RFC MSC 850101 FR1
B32: =PRESIDENCIA!A3 -> SUELDO DEL 15 AL 30 DE SEPTIEMBRE DE 2026
B34: Núm de Empleado | C34: Forma de Pago | D34: RASTRO | E34: RFC | F34: CURP | G34: FECHA DE INGRESO | H34: PUESTO | K34: =SUM(K35:K50) -> 84578 | L34: =SUM(L35:L50) -> 0 | M34: =SUM(M35:M50) -> 84578 | X34: =SUM(X35:X50) -> 0 | Y34: =SUM(Y35:Y50) -> 8187.38 | Z34: =SUM(Z35:Z50) -> 0 | AA34: =SUM(AA35:AA50) -> 8187.38 | AB34: =SUM(AB35:AB50) -> 76390.62
B35: 173 | C35: 03 | D35: EDUARDO CASILLAS SOLIS | E35: CASE8710163P8 | F35: CASE871016HJCSLD02 | G35: 43101 | H35: DIRECTOR DEL RASTRO | I35: 15 | J35: =K35/I35 -> 583.06667 | K35: 8746 | L35: 0 | M35: =SUM(K35:L35) -> 8746 | N35: =IF(K35/15<=SMG,0,L35/2) -> 0 | O35: =(K35+N35)/I35*30.4 -> 17725.227 | P35: =VLOOKUP(O35,Tarifa,1) -> 17533.65 | Q35: =O35-P35 -> 191.57667 | R35: =VLOOKUP(O35,Tarifa,3) -> 0.2136 | S35: =Q35*R35 -> 40.920776 | T35: =VLOOKUP(O35,Tarifa,2) -> 1856.84 | U35: =S35+T35 -> 1897.7608 | V35: =VLOOKUP(O35,Credito,2) -> 0 | W35: =ROUND((U35-V35)/30.4*I35,2) -> 936.4 | X35: =-IF(W35>0,0,0) -> 0 | Y35: =IF(K35/15<=SMG,0,IF(W35<0,0,W35)) -> 936.4 | Z35: 0 | AA35: =SUM(Y35:Z35) -> 936.4 | AB35: =M35+X35-AA35 -> 7809.6
B36: 412 | C36: 03 | D36: MARIA LETICIA SANDOVAL SOTO | E36: SASL921030NT2 | F36: SASL921030MJCNTT09 | G36: 45732 | H36: MÉDICO VETERINARIO ZOOTECNISTA | I36: 15 | J36: =ROUND(K36/I36,2) -> 583.07 | K36: 8746 | L36: 0 | M36: =SUM(K36:L36) -> 8746 | N36: =IF(K36/15<=SMG,0,L36/2) -> 0 | O36: =(K36+N36)/I36*30.4 -> 17725.227 | P36: =VLOOKUP(O36,Tarifa,1) -> 17533.65 | Q36: =O36-P36 -> 191.57667 | R36: =VLOOKUP(O36,Tarifa,3) -> 0.2136 | S36: =Q36*R36 -> 40.920776 | T36: =VLOOKUP(O36,Tarifa,2) -> 1856.84 | U36: =S36+T36 -> 1897.7608 | V36: =VLOOKUP(O36,Credito,2) -> 0 | W36: =ROUND((U36-V36)/30.4*I36,2) -> 936.4 | X36: =-IF(W36>0,0,0) -> 0 | Y36: =IF(K36/15<=SMG,0,IF(W36<0,0,W36)) -> 936.4 | Z36: 0 | AA36: =SUM(Y36:Z36) -> 936.4 | AB36: =M36+X36-AA36 -> 7809.6
B37: 413 | C37: 03 | D37: ESTEBAN AGUAYO CASTRO | E37: AUCE9304272R9 | F37: AUCE930427HJCGSS05 | G37: 45732 | H37: MATANCERO | I37: 15 | J37: =K37/I37 -> 496.93333 | K37: 7454 | L37: 0 | M37: =SUM(K37:L37) -> 7454 | N37: =IF(K37/15<=SMG,0,L37/2) -> 0 | O37: =(K37+N37)/I37*30.4 -> 15106.773 | P37: =VLOOKUP(O37,Tarifa,1) -> 14644.65 | Q37: =O37-P37 -> 462.12333 | R37: =VLOOKUP(O37,Tarifa,3) -> 0.1792 | S37: =Q37*R37 -> 82.812501 | T37: =VLOOKUP(O37,Tarifa,2) -> 1339.14 | U37: =S37+T37 -> 1421.9525 | V37: =VLOOKUP(O37,Credito,2) -> 0 | W37: =ROUND((U37-V37)/30.4*I37,2) -> 701.62 | X37: =-IF(W37>0,0,0) -> 0 | Y37: =IF(K37/15<=SMG,0,IF(W37<0,0,W37)) -> 701.62 | Z37: 0 | AA37: =SUM(Y37:Z37) -> 701.62 | AB37: =M37+X37-AA37 -> 6752.38
B38: 416 | C38: 02 | D38: DAVID GALVEZ ALVARADO | E38: GAAD7002191Y2 | F38: GAAD700219HJCLLV00 | G38: 45732 | H38: MATANCERO | I38: 15 | J38: =K38/I38 -> 496.93333 | K38: 7454 | L38: 0 | M38: =SUM(K38:L38) -> 7454 | N38: =IF(K38/15<=SMG,0,L38/2) -> 0 | O38: =(K38+N38)/I38*30.4 -> 15106.773 | P38: =VLOOKUP(O38,Tarifa,1) -> 14644.65 | Q38: =O38-P38 -> 462.12333 | R38: =VLOOKUP(O38,Tarifa,3) -> 0.1792 | S38: =Q38*R38 -> 82.812501 | T38: =VLOOKUP(O38,Tarifa,2) -> 1339.14 | U38: =S38+T38 -> 1421.9525 | V38: =VLOOKUP(O38,Credito,2) -> 0 | W38: =ROUND((U38-V38)/30.4*I38,2) -> 701.62 | X38: =-IF(W38>0,0,0) -> 0 | Y38: =IF(K38/15<=SMG,0,IF(W38<0,0,W38)) -> 701.62 | Z38: 0 | AA38: =SUM(Y38:Z38) -> 701.62 | AB38: =M38+X38-AA38 -> 6752.38
B39: 415 | C39: 02 | D39: PRUDENCIO BALTIERRA ESPINOZA | E39: BAEP730428LL0 | F39: BAEP730428HJCLSR09 | G39: 45732 | H39: MATANCERO | I39: 15 | J39: =K39/I39 -> 496.93333 | K39: 7454 | L39: 0 | M39: =SUM(K39:L39) -> 7454 | N39: =IF(K39/15<=SMG,0,L39/2) -> 0 | O39: =(K39+N39)/I39*30.4 -> 15106.773 | P39: =VLOOKUP(O39,Tarifa,1) -> 14644.65 | Q39: =O39-P39 -> 462.12333 | R39: =VLOOKUP(O39,Tarifa,3) -> 0.1792 | S39: =Q39*R39 -> 82.812501 | T39: =VLOOKUP(O39,Tarifa,2) -> 1339.14 | U39: =S39+T39 -> 1421.9525 | V39: =VLOOKUP(O39,Credito,2) -> 0 | W39: =ROUND((U39-V39)/30.4*I39,2) -> 701.62 | X39: =-IF(W39>0,0,0) -> 0 | Y39: =IF(K39/15<=SMG,0,IF(W39<0,0,W39)) -> 701.62 | Z39: 0 | AA39: =SUM(Y39:Z39) -> 701.62 | AB39: =M39+X39-AA39 -> 6752.38
B41: MUNICIPIO DE : SAN CRISTÒBAL DE LA BARRANCA,JALISCO
B42: RFC MSC 850101 FR1
B43: =PRESIDENCIA!A3 -> SUELDO DEL 15 AL 30 DE SEPTIEMBRE DE 2026
B45: 417 | C45: 02 | D45: ALENJANDRO CASTRO PEREZ | E45: CAPA890501LI7 | F45: CAPA890501HJCSRL04 | G45: 45732 | H45: MATANCERO | I45: 15 | J45: =K45/I45 -> 496.93333 | K45: 7454 | L45: 0 | M45: =SUM(K45:L45) -> 7454 | N45: =IF(K45/15<=SMG,0,L45/2) -> 0 | O45: =(K45+N45)/I45*30.4 -> 15106.773 | P45: =VLOOKUP(O45,Tarifa,1) -> 14644.65 | Q45: =O45-P45 -> 462.12333 | R45: =VLOOKUP(O45,Tarifa,3) -> 0.1792 | S45: =Q45*R45 -> 82.812501 | T45: =VLOOKUP(O45,Tarifa,2) -> 1339.14 | U45: =S45+T45 -> 1421.9525 | V45: =VLOOKUP(O45,Credito,2) -> 0 | W45: =ROUND((U45-V45)/30.4*I45,2) -> 701.62 | X45: =-IF(W45>0,0,0) -> 0 | Y45: =IF(K45/15<=SMG,0,IF(W45<0,0,W45)) -> 701.62 | Z45: 0 | AA45: =SUM(Y45:Z45) -> 701.62 | AB45: =M45+X45-AA45 -> 6752.38
B46: 418 | C46: 02 | D46: LUIS GERARDO GONZALEZ JIMENEZ | E46: GOJL960401MD1 | F46: GOJL960401HJCNMS00 | G46: 45732 | H46: MATANCERO | I46: 15 | J46: =K46/I46 -> 496.93333 | K46: 7454 | L46: 0 | M46: =SUM(K46:L46) -> 7454 | N46: =IF(K46/15<=SMG,0,L46/2) -> 0 | O46: =(K46+N46)/I46*30.4 -> 15106.773 | P46: =VLOOKUP(O46,Tarifa,1) -> 14644.65 | Q46: =O46-P46 -> 462.12333 | R46: =VLOOKUP(O46,Tarifa,3) -> 0.1792 | S46: =Q46*R46 -> 82.812501 | T46: =VLOOKUP(O46,Tarifa,2) -> 1339.14 | U46: =S46+T46 -> 1421.9525 | V46: =VLOOKUP(O46,Credito,2) -> 0 | W46: =ROUND((U46-V46)/30.4*I46,2) -> 701.62 | X46: =-IF(W46>0,0,0) -> 0 | Y46: =IF(K46/15<=SMG,0,IF(W46<0,0,W46)) -> 701.62 | Z46: 0 | AA46: =SUM(Y46:Z46) -> 701.62 | AB46: =M46+X46-AA46 -> 6752.38
